BEGIN:VCALENDAR
VERSION:2.0
PRODID:-//92.5 the River - ECPv5.16.3.1//NONSGML v1.0//EN
CALSCALE:GREGORIAN
METHOD:PUBLISH
X-WR-CALNAME:92.5 the River
X-ORIGINAL-URL:https://theriverboston.com
X-WR-CALDESC:Events for 92.5 the River
BEGIN:VTIMEZONE
TZID:America/New_York
BEGIN:DAYLIGHT
TZOFFSETFROM:-0500
TZOFFSETTO:-0400
TZNAME:EDT
DTSTART:20220313T070000
END:DAYLIGHT
BEGIN:STANDARD
TZOFFSETFROM:-0400
TZOFFSETTO:-0500
TZNAME:EST
DTSTART:20221106T060000
END:STANDARD
END:VTIMEZONE
BEGIN:VEVENT
DTSTART;TZID=America/New_York:20220817T200000
DTEND;TZID=America/New_York:20220817T200000
DTSTAMP:20260422T004009
CREATED:20220609T165529Z
LAST-MODIFIED:20220609T165529Z
UID:216500-1660766400-1660766400@theriverboston.com
SUMMARY:Leon Bridges - The Boundless Tour with Little Dragon
DESCRIPTION:Leon Bridges and Little Dragon are performing a second night live at Roadrunner on August 17th at 8pm. \nDoors open at 7pm.
URL:https://theriverboston.com/events/leon-bridges-the-boundless-tour-with-little-dragon-2/
LOCATION:Roadrunner\, 89 Guest Street\, Boston\, MA\, 02135\, United States
END:VEVENT
END:VCALENDAR