BEGIN:VCALENDAR
VERSION:2.0
PRODID:-//92.5 the River - ECPv5.16.3.1//NONSGML v1.0//EN
CALSCALE:GREGORIAN
METHOD:PUBLISH
X-WR-CALNAME:92.5 the River
X-ORIGINAL-URL:https://theriverboston.com
X-WR-CALDESC:Events for 92.5 the River
BEGIN:VTIMEZONE
TZID:America/New_York
BEGIN:DAYLIGHT
TZOFFSETFROM:-0500
TZOFFSETTO:-0400
TZNAME:EDT
DTSTART:20220313T070000
END:DAYLIGHT
BEGIN:STANDARD
TZOFFSETFROM:-0400
TZOFFSETTO:-0500
TZNAME:EST
DTSTART:20221106T060000
END:STANDARD
END:VTIMEZONE
BEGIN:VEVENT
DTSTART;TZID=America/New_York:20220821T200000
DTEND;TZID=America/New_York:20220821T200000
DTSTAMP:20260421T195027
CREATED:20220615T191125Z
LAST-MODIFIED:20220615T191125Z
UID:216558-1661112000-1661112000@theriverboston.com
SUMMARY:The Decemberists @ Roadrunner
DESCRIPTION:The Decemberists return to Boston! They are joined at Roadrunner on August 21st by Jake Xerxes Fussell.
URL:https://theriverboston.com/events/the-decemberists-roadrunner/
LOCATION:Roadrunner\, 89 Guest Street\, Boston\, MA\, 02135\, United States
END:VEVENT
END:VCALENDAR