BEGIN:VCALENDAR
VERSION:2.0
PRODID:-//92.5 the River - ECPv5.16.3.1//NONSGML v1.0//EN
CALSCALE:GREGORIAN
METHOD:PUBLISH
X-WR-CALNAME:92.5 the River
X-ORIGINAL-URL:https://theriverboston.com
X-WR-CALDESC:Events for 92.5 the River
BEGIN:VTIMEZONE
TZID:America/New_York
BEGIN:DAYLIGHT
TZOFFSETFROM:-0500
TZOFFSETTO:-0400
TZNAME:EDT
DTSTART:20220313T070000
END:DAYLIGHT
BEGIN:STANDARD
TZOFFSETFROM:-0400
TZOFFSETTO:-0500
TZNAME:EST
DTSTART:20221106T060000
END:STANDARD
END:VTIMEZONE
BEGIN:VEVENT
DTSTART;TZID=America/New_York:20220826T000000
DTEND;TZID=America/New_York:20220828T000000
DTSTAMP:20260421T195026
CREATED:20210804T181404Z
LAST-MODIFIED:20210804T181404Z
UID:214309-1661472000-1661644800@theriverboston.com
SUMMARY:Beach Road Weekend 2022
DESCRIPTION:Don’t miss Beach Road Weekend 2022!\nPasses are on sale for the event of the summer! The three-day festival includes headliners Beck\, Wilco\, and The Avett Brothers\, with performances from Lucy Dacus\, Lettuce\, Lord Huron\, and so many more! \nHotel and travel packages are available so no matter where you’re coming from you can get to Vineyard Haven with ease for the three epic days of live music. \nDon’t forget to sign up to become a Beach Road Weekend Insider to stay up to date on announcements and offers! We can’t wait to see you in August of 2022!
URL:https://theriverboston.com/events/beach-road-weekend-2022/
LOCATION:Martha’s Vineyard Veterans Memorial Park\, Vineyard Haven\, MA\, 63 Lagoon Pond Road\, Vineyard Haven\, MA\, 02568\, United States
END:VEVENT
BEGIN:VEVENT
DTSTART;TZID=America/New_York:20220827T000000
DTEND;TZID=America/New_York:20220827T000000
DTSTAMP:20260421T195026
CREATED:20220519T172201Z
LAST-MODIFIED:20220519T172201Z
UID:216271-1661558400-1661558400@theriverboston.com
SUMMARY:The Shins @Roadrunner
DESCRIPTION:The Shins are back on tour!! They will be coming to the Roadrunner in Boston MA on August 27th! Don’t miss your chance to see this awesome show!
URL:https://theriverboston.com/events/the-shins-roadrunner/
LOCATION:Roadrunner\, 89 Guest Street\, Boston\, MA\, 02135\, United States
END:VEVENT
BEGIN:VEVENT
DTSTART;TZID=America/New_York:20220827T190000
DTEND;TZID=America/New_York:20220827T190000
DTSTAMP:20260421T195026
CREATED:20220622T201359Z
LAST-MODIFIED:20220622T201359Z
UID:216644-1661626800-1661626800@theriverboston.com
SUMMARY:Ruston Kelly @ Prescott Park
DESCRIPTION:Ruston Kelly is coming to Portsmouth to perform live at Prescott Park on August 27th!
URL:https://theriverboston.com/events/ruston-kelly-prescott-park/
LOCATION:Prescott Park\, 105 Marcy Street\, Portsmouth\, NH\, 03801\, United States
END:VEVENT
BEGIN:VEVENT
DTSTART;TZID=America/New_York:20220827T190000
DTEND;TZID=America/New_York:20220827T220000
DTSTAMP:20260421T195026
CREATED:20220811T134043Z
LAST-MODIFIED:20220811T134043Z
UID:217025-1661626800-1661637600@theriverboston.com
SUMMARY:Cisco Summer Squeeze Saturday
DESCRIPTION:THE PRESS ROOM AND CISCO BREWERS IN PORTSMOUTH BOTH LOVE CONCERTS AND GREAT CRAFT BEER AND HAVE TEAMED UP THIS SUMMER TO SHARE THEIR LOVE OF BOTH WITH YOU! JOIN THEM FOR THE CISCO SUMMER SQUEEZE SATURDAY\, AUGUST 27TH WITH A GREAT LINE-UP\, FEATURING BOSTON’S OWN RIPE\, ALONG WITH THE SAMPLES. ALSO ON THE BILL ARE CHANCE EMERSON AND DANNY GODINEZ. \nDOORS OPEN AT 3:30 PM AND MUSIC BEGINS AT 4PM. THIS EVENT IS RAIN OR SHINE AND YOU MUST BE 21+ TO ATTEND.  THERE’LL BE FOOD TRUCKS AND PLENTY OF COLD BEER. \nDON’T MISS THE EVENT OF THE SUMMER SATURDAY AUGUST 27th AT CISCO BREWERS IN PORTSMOUTH. FOR TICKETS AND COMPLETE DETAILS ON THIS OR ANY OF THE OTHER GREAT CONCERTS HAPPENING IN THIS SERIES VISIT: https://pressroomnh.com/live-music-portsmouth-nh-events/ AND FOR MORE INFO YOU CAN ALSO VISIT: https://portsmouthnhtickets.com/events/ripe-8-27-2022
URL:https://theriverboston.com/events/cisco-summer-squeeze-saturday/
LOCATION:Cisco Brewers\, 35 Corporate Dr\, Pease International Tradeport\, Portsmouth\, NH\, 03801\, United States
ORGANIZER;CN="Cisco%20Brewers":MAILTO:info@gathernh.org
END:VEVENT
BEGIN:VEVENT
DTSTART;TZID=America/New_York:20220827T193000
DTEND;TZID=America/New_York:20220827T193000
DTSTAMP:20260421T195026
CREATED:20220715T193117Z
LAST-MODIFIED:20220715T193117Z
UID:216837-1661628600-1661628600@theriverboston.com
SUMMARY:Hiss Golden Messenger & Aoife O'Donovan @ Lowell Summer Music Series
DESCRIPTION:Hiss Golden Messenger and Aoife O’Donovan\, come to the Lowell Summer Music Series as they put on an unforgettable show!
URL:https://theriverboston.com/events/hiss-golden-messenger-aoife-odonovan-lowell-summer-music-series/
LOCATION:Lowell Summer Music Series\, 40 French Street\, Lowell\, MA\, 01852\, United States
END:VEVENT
END:VCALENDAR