BEGIN:VCALENDAR
VERSION:2.0
PRODID:-//92.5 the River - ECPv5.16.3.1//NONSGML v1.0//EN
CALSCALE:GREGORIAN
METHOD:PUBLISH
X-WR-CALNAME:92.5 the River
X-ORIGINAL-URL:https://theriverboston.com
X-WR-CALDESC:Events for 92.5 the River
BEGIN:VTIMEZONE
TZID:America/New_York
BEGIN:DAYLIGHT
TZOFFSETFROM:-0500
TZOFFSETTO:-0400
TZNAME:EDT
DTSTART:20220313T070000
END:DAYLIGHT
BEGIN:STANDARD
TZOFFSETFROM:-0400
TZOFFSETTO:-0500
TZNAME:EST
DTSTART:20221106T060000
END:STANDARD
END:VTIMEZONE
BEGIN:VEVENT
DTSTART;TZID=America/New_York:20220826T000000
DTEND;TZID=America/New_York:20220828T000000
DTSTAMP:20260421T213015
CREATED:20210804T181404Z
LAST-MODIFIED:20210804T181404Z
UID:214309-1661472000-1661644800@theriverboston.com
SUMMARY:Beach Road Weekend 2022
DESCRIPTION:Don’t miss Beach Road Weekend 2022!\nPasses are on sale for the event of the summer! The three-day festival includes headliners Beck\, Wilco\, and The Avett Brothers\, with performances from Lucy Dacus\, Lettuce\, Lord Huron\, and so many more! \nHotel and travel packages are available so no matter where you’re coming from you can get to Vineyard Haven with ease for the three epic days of live music. \nDon’t forget to sign up to become a Beach Road Weekend Insider to stay up to date on announcements and offers! We can’t wait to see you in August of 2022!
URL:https://theriverboston.com/events/beach-road-weekend-2022/
LOCATION:Martha’s Vineyard Veterans Memorial Park\, Vineyard Haven\, MA\, 63 Lagoon Pond Road\, Vineyard Haven\, MA\, 02568\, United States
END:VEVENT
BEGIN:VEVENT
DTSTART;TZID=America/New_York:20220828T193000
DTEND;TZID=America/New_York:20220828T193000
DTSTAMP:20260421T213015
CREATED:20220715T191954Z
LAST-MODIFIED:20220715T191954Z
UID:216836-1661715000-1661715000@theriverboston.com
SUMMARY:Indigo Girls @ Lowell Summer Music Series
DESCRIPTION:Indigo Girls\nLowell Summer Music Series |  Boarding House Park\nSunday\, August 28\, 2022 | 7:30 PM\nIndigo Girls’ latest album is “a musical balm for those of us in search of a daily refuge\, an hour or two when we can engage with something that brings us joy\, perspective\, or maybe just calm.” Their show at Boarding House Park is bound to provide that refuge\, too. Don’t miss this one. \nCLICK HERE for tickets and more info about the series.\nFollow Indigo Girls on Facebook | Instagram | Twitter
URL:https://theriverboston.com/events/indigo-girls-lowell-summer-music-series/
LOCATION:Boarding House Park\, 40 French Street\, Lowell\, MA\, 01852\, United States
END:VEVENT
END:VCALENDAR