BEGIN:VCALENDAR
VERSION:2.0
PRODID:-//92.5 the River - ECPv5.16.3.1//NONSGML v1.0//EN
CALSCALE:GREGORIAN
METHOD:PUBLISH
X-WR-CALNAME:92.5 the River
X-ORIGINAL-URL:https://theriverboston.com
X-WR-CALDESC:Events for 92.5 the River
BEGIN:VTIMEZONE
TZID:America/New_York
BEGIN:DAYLIGHT
TZOFFSETFROM:-0500
TZOFFSETTO:-0400
TZNAME:EDT
DTSTART:20220313T070000
END:DAYLIGHT
BEGIN:STANDARD
TZOFFSETFROM:-0400
TZOFFSETTO:-0500
TZNAME:EST
DTSTART:20221106T060000
END:STANDARD
END:VTIMEZONE
BEGIN:VEVENT
DTSTART;TZID=America/New_York:20220829T200000
DTEND;TZID=America/New_York:20220830T220000
DTSTAMP:20260421T165048
CREATED:20220614T192554Z
LAST-MODIFIED:20220614T192554Z
UID:216544-1661803200-1661896800@theriverboston.com
SUMMARY:James Taylor @ MGM Music Hall at Fenway 8-29-2022
DESCRIPTION:James Taylor\nMGM Music Hall at Fenway \nMonday August 29th & 30th\, 2022 \n  \nJames Taylor and his All Star Band are on tour and coming to Boston! You will not want to miss out on this knock out show!
URL:https://theriverboston.com/events/james-taylor-mgm-music-hall-at-fenway-8-29-2022/
LOCATION:MGM Music Hall at Fenway\, 2 Lansdowne Street\, Boston\, MA\, 02215\, United States
END:VEVENT
BEGIN:VEVENT
DTSTART;TZID=America/New_York:20220830T080000
DTEND;TZID=America/New_York:20220830T170000
DTSTAMP:20260421T165048
CREATED:20220830T191553Z
LAST-MODIFIED:20220830T191553Z
UID:217155-1661846400-1661878800@theriverboston.com
SUMMARY:My Morning Jacket w/ Joy Oladokun @ Leader Bank Pavilion
DESCRIPTION:My Morning Jacket\nw/ Joy Oladokun | Leader Bank Pavilion\nThursday\, September 15\, 2022 | 7:30 PM\nMy Morning Jacket is hitting Boston on September 15 with special guest Joy Oladokun! If you want to see this amazing show for free\, enter now for the chance to win a pair of tickets! \nCLICK HERE for tickets.\nCLICK HERE to enter to win a pair of tickets! (Contest ends 9/5)
URL:https://theriverboston.com/events/my-morning-jacket-w-joy-oladokun-leader-bank-pavilion/
LOCATION:MA
END:VEVENT
BEGIN:VEVENT
DTSTART;TZID=America/New_York:20220830T190000
DTEND;TZID=America/New_York:20220830T190000
DTSTAMP:20260421T165048
CREATED:20220609T174426Z
LAST-MODIFIED:20220609T174426Z
UID:216503-1661886000-1661886000@theriverboston.com
SUMMARY:Brandi Carlile with special guest Indigo Girls
DESCRIPTION:Brandi Carlile is joined by Indigo Girls in Lenox\, MA\, to perform live at Tanglewood on August 30th at 7pm.
URL:https://theriverboston.com/events/brandi-carlile-with-special-guest-indigo-girls/
LOCATION:Tanglewood\, 297 West St\, Lenox\, Lenox\, MA\, 01240\, United States
END:VEVENT
BEGIN:VEVENT
DTSTART;TZID=America/New_York:20220830T200000
DTEND;TZID=America/New_York:20220830T200000
DTSTAMP:20260421T165048
CREATED:20220812T161911Z
LAST-MODIFIED:20220812T163139Z
UID:217055-1661889600-1661889600@theriverboston.com
SUMMARY:Ben Folds at Emerson Colonial Theatre
DESCRIPTION:BEN FOLDS – IN ACTUAL PERSON LIVE FOR REAL TOUR\n\nVIEW/BUY TICKETS HERE\nBen Folds is widely regarded as one of the major music influencers of our generation. \nHe’s created an enormous body of genre-bending music that includes pop albums with Ben Folds Five\, multiple solo albums\, and numerous collaborative records. His last album was a blend of pop songs and his Concerto for Piano and Orchestra that soared to #1 on both the Billboard classical and classical crossover charts. READ MORE \n  \nStay up-to-date about Ben Folds\nPlan Your Visit at Emerson Colonial Theatre \n 
URL:https://theriverboston.com/events/ben-folds-at-emerson-colonial-theatre/
LOCATION:Emerson Colonial Theatre\, 106 Boylston Street\, Boston\, MA\, 02116\, United States
END:VEVENT
END:VCALENDAR