BEGIN:VCALENDAR
VERSION:2.0
PRODID:-//92.5 the River - ECPv5.16.3.1//NONSGML v1.0//EN
CALSCALE:GREGORIAN
METHOD:PUBLISH
X-WR-CALNAME:92.5 the River
X-ORIGINAL-URL:https://theriverboston.com
X-WR-CALDESC:Events for 92.5 the River
BEGIN:VTIMEZONE
TZID:America/New_York
BEGIN:DAYLIGHT
TZOFFSETFROM:-0500
TZOFFSETTO:-0400
TZNAME:EDT
DTSTART:20220313T070000
END:DAYLIGHT
BEGIN:STANDARD
TZOFFSETFROM:-0400
TZOFFSETTO:-0500
TZNAME:EST
DTSTART:20221106T060000
END:STANDARD
END:VTIMEZONE
BEGIN:VEVENT
DTSTART;TZID=America/New_York:20220831T190000
DTEND;TZID=America/New_York:20220831T190000
DTSTAMP:20260421T195026
CREATED:20220509T173039Z
LAST-MODIFIED:20220509T173039Z
UID:216128-1661972400-1661972400@theriverboston.com
SUMMARY:Chris Stapleton @ MGM Music Hall
DESCRIPTION:The country pop star\, Chris Stapleton is back on tour in support of his new album “Starting Over”! He will be coming to the MGM Music hall at Fenway on August 31st at 7:00PM. You do not want to miss this knockout show! \n 
URL:https://theriverboston.com/events/chris-stapleton-mgm-music-hall/
LOCATION:MGM Music Hall at Fenway\, 2 Lansdowne Street\, Boston\, MA\, 02215\, United States
END:VEVENT
END:VCALENDAR