BEGIN:VCALENDAR
VERSION:2.0
PRODID:-//92.5 the River - ECPv5.16.3.1//NONSGML v1.0//EN
CALSCALE:GREGORIAN
METHOD:PUBLISH
X-WR-CALNAME:92.5 the River
X-ORIGINAL-URL:https://theriverboston.com
X-WR-CALDESC:Events for 92.5 the River
BEGIN:VTIMEZONE
TZID:America/New_York
BEGIN:DAYLIGHT
TZOFFSETFROM:-0500
TZOFFSETTO:-0400
TZNAME:EDT
DTSTART:20220313T070000
END:DAYLIGHT
BEGIN:STANDARD
TZOFFSETFROM:-0400
TZOFFSETTO:-0500
TZNAME:EST
DTSTART:20221106T060000
END:STANDARD
END:VTIMEZONE
BEGIN:VEVENT
DTSTART;VALUE=DATE:20220912
DTEND;VALUE=DATE:20220913
DTSTAMP:20260421T230333
CREATED:20220829T175729Z
LAST-MODIFIED:20220829T180023Z
UID:217125-1662940800-1663027199@theriverboston.com
SUMMARY:Manchester City-Wide Arts Festival
DESCRIPTION:NEW THIS YEAR…\n\nA Week-Long Celebration!\nThe Manchester Citywide Arts Festival will be a weeklong celebration of the thriving arts community in Manchester\, NH. The calendar of events for the festival will include goings on around the city\, particularly in the Cultural District and surrounding downtown locations. Performances\, gallery openings\, speakers\, walking tours\, live art-making and much more will occur throughout the week! \n 
URL:https://theriverboston.com/events/manchester-city-wide-arts-festival/
END:VEVENT
END:VCALENDAR