BEGIN:VCALENDAR
VERSION:2.0
PRODID:-//92.5 the River - ECPv5.16.3.1//NONSGML v1.0//EN
CALSCALE:GREGORIAN
METHOD:PUBLISH
X-WR-CALNAME:92.5 the River
X-ORIGINAL-URL:https://theriverboston.com
X-WR-CALDESC:Events for 92.5 the River
BEGIN:VTIMEZONE
TZID:America/New_York
BEGIN:DAYLIGHT
TZOFFSETFROM:-0500
TZOFFSETTO:-0400
TZNAME:EDT
DTSTART:20220313T070000
END:DAYLIGHT
BEGIN:STANDARD
TZOFFSETFROM:-0400
TZOFFSETTO:-0500
TZNAME:EST
DTSTART:20221106T060000
END:STANDARD
END:VTIMEZONE
BEGIN:VEVENT
DTSTART;TZID=America/New_York:20220913T190000
DTEND;TZID=America/New_York:20220913T190000
DTSTAMP:20260422T003451
CREATED:20220830T184254Z
LAST-MODIFIED:20220830T184254Z
UID:217152-1663095600-1663095600@theriverboston.com
SUMMARY:Phoenix @ Roadrunner
DESCRIPTION:Phoenix\nw/ Porches | Roadrunner Boston\nTuesday\, September 13\, 2022 | Doors: 7:00 PM | Show: 8:00 PM\nThe iconic French indie-pop band from Versailles is coming to Boston! We can’t get enough of the group’s latest single ‘Alpha Zulu’ and are so excited to see it played live! \nCLICK HERE for tickets.\nCLICK HERE to enter to win! (Contest ends 9/5)
URL:https://theriverboston.com/events/phoenix-roadrunner/
LOCATION:Roadrunner\, 89 Guest Street\, Boston\, MA\, 02135\, United States
END:VEVENT
BEGIN:VEVENT
DTSTART;TZID=America/New_York:20220913T193000
DTEND;TZID=America/New_York:20220913T193000
DTSTAMP:20260422T003451
CREATED:20220615T192413Z
LAST-MODIFIED:20220615T192413Z
UID:216559-1663097400-1663097400@theriverboston.com
SUMMARY:Nathaniel Rateliff & The Night Sweats @ Leader Bank Pavilion
DESCRIPTION:Nathaniel Rateliff & The Night Sweats will be joined by Allison Russell at the Leader Bank Pavilion on September 13th\, 2022.
URL:https://theriverboston.com/events/nathaniel-rateliff-the-night-sweats-leader-bank-pavilion/
LOCATION:Leader Bank Pavilion\, 290 Northern Ave\, Boston\, MA\, 02210\, United States
END:VEVENT
BEGIN:VEVENT
DTSTART;TZID=America/New_York:20220913T193000
DTEND;TZID=America/New_York:20220913T193000
DTSTAMP:20260422T003451
CREATED:20220727T183310Z
LAST-MODIFIED:20220727T183310Z
UID:216925-1663097400-1663097400@theriverboston.com
SUMMARY:The Robert Cray Band @ The Music Hall
DESCRIPTION:The Robert Cray Band is back on tour and returning to New England! Come listen to and celebrate their latest album\, That’s What I Heard. Catch them live at The Music Hall Historic Theater on Tuesday\, September 13th.
URL:https://theriverboston.com/events/the-robert-cray-band-the-music-hall/
LOCATION:The Music Hall\, 28 Chestnut Street\, Portsmouth\, NH\, 03801\, United States
END:VEVENT
END:VCALENDAR