BEGIN:VCALENDAR
VERSION:2.0
PRODID:-//92.5 the River - ECPv5.16.3.1//NONSGML v1.0//EN
CALSCALE:GREGORIAN
METHOD:PUBLISH
X-WR-CALNAME:92.5 the River
X-ORIGINAL-URL:https://theriverboston.com
X-WR-CALDESC:Events for 92.5 the River
BEGIN:VTIMEZONE
TZID:America/New_York
BEGIN:DAYLIGHT
TZOFFSETFROM:-0500
TZOFFSETTO:-0400
TZNAME:EDT
DTSTART:20220313T070000
END:DAYLIGHT
BEGIN:STANDARD
TZOFFSETFROM:-0400
TZOFFSETTO:-0500
TZNAME:EST
DTSTART:20221106T060000
END:STANDARD
END:VTIMEZONE
BEGIN:VEVENT
DTSTART;TZID=America/New_York:20220915T193000
DTEND;TZID=America/New_York:20220915T193000
DTSTAMP:20260421T230332
CREATED:20220906T021503Z
LAST-MODIFIED:20220906T022409Z
UID:217181-1663270200-1663270200@theriverboston.com
SUMMARY:Brett Dennen - Live Music at the Rex Theatre
DESCRIPTION:BRETT DENNEN LIVE IN MANCHESTER AT THE REX THEATRE\n\nBUY TICKETS \nBrett Dennen is telling us to get out and see the world at a time when we need it more than ever. Flame-haired\, six-foot-five\, and with a singular gift for meditating on life’s most meaningful subjects with equal parts innocence and razor sharp wit\, you know Dennen from his decade-plus career as a singer/songwriter and his long history with the River playlist (“Make You Crazy\,” “Wild Child”\, “Already Gone\,” “Sydney”). \nVIEW THE FULL REX THEATRE CALENDAR \nMORE ABOUT BRETT DENNEN
URL:https://theriverboston.com/events/brett-dennen-live-music-at-the-rex-theatre/
LOCATION:The Rex Theatre\, 23 Amherst St\, Manchester\, NH\, 03101\, United States
END:VEVENT
END:VCALENDAR