BEGIN:VCALENDAR
VERSION:2.0
PRODID:-//92.5 the River - ECPv5.16.3.1//NONSGML v1.0//EN
CALSCALE:GREGORIAN
METHOD:PUBLISH
X-WR-CALNAME:92.5 the River
X-ORIGINAL-URL:https://theriverboston.com
X-WR-CALDESC:Events for 92.5 the River
BEGIN:VTIMEZONE
TZID:America/New_York
BEGIN:DAYLIGHT
TZOFFSETFROM:-0500
TZOFFSETTO:-0400
TZNAME:EDT
DTSTART:20220313T070000
END:DAYLIGHT
BEGIN:STANDARD
TZOFFSETFROM:-0400
TZOFFSETTO:-0500
TZNAME:EST
DTSTART:20221106T060000
END:STANDARD
END:VTIMEZONE
BEGIN:VEVENT
DTSTART;TZID=America/New_York:20220916T190000
DTEND;TZID=America/New_York:20220916T190000
DTSTAMP:20260421T213027
CREATED:20220811T135437Z
LAST-MODIFIED:20220811T135437Z
UID:217027-1663354800-1663354800@theriverboston.com
SUMMARY:Start Making Sense @ Cisco Brewers Portsmouth
DESCRIPTION:THE PRESS ROOM & CISCO BREWERS PRESENT: \nSTART MAKING SENSE @ CISCO BREWERS PORTSMOUTH \nSEPTEMBER 16 @ 7PM | DOORS 6PM | CISCO BREWERS PORTSMOUTH \nIf David Byrne is one of the geniuses of modern times\, then Start Making Sense is a tribute to genius. The musicians in this 7-10 piece Talking Heads Tribute take pride in faithfully recreating the music of Talking Heads entire career.   Together they bring much of the Heads unique live show to the stage\, with front man Jon Braun as a spot-on David Byrne\,  giving you a “once in a lifetime” experience.  Prepare yourself for a rockin’\, funkin’\, danceable celebration of the new-wave art punk you loved from the 80’s!!! \nYou can purchase tickets at: https://portsmouthnhtickets.com/events/start-making-sense-talking-heads-tribute-9-16-2022
URL:https://theriverboston.com/events/start-making-sense-cisco-brewers-portsmouth/
LOCATION:Cisco Brewers\, 35 Corporate Dr\, Pease International Tradeport\, Portsmouth\, NH\, 03801\, United States
ORGANIZER;CN="Cisco%20Brewers":MAILTO:info@gathernh.org
END:VEVENT
END:VCALENDAR