BEGIN:VCALENDAR
VERSION:2.0
PRODID:-//92.5 the River - ECPv5.16.3.1//NONSGML v1.0//EN
CALSCALE:GREGORIAN
METHOD:PUBLISH
X-WR-CALNAME:92.5 the River
X-ORIGINAL-URL:https://theriverboston.com
X-WR-CALDESC:Events for 92.5 the River
BEGIN:VTIMEZONE
TZID:America/New_York
BEGIN:DAYLIGHT
TZOFFSETFROM:-0500
TZOFFSETTO:-0400
TZNAME:EDT
DTSTART:20220313T070000
END:DAYLIGHT
BEGIN:STANDARD
TZOFFSETFROM:-0400
TZOFFSETTO:-0500
TZNAME:EST
DTSTART:20221106T060000
END:STANDARD
END:VTIMEZONE
BEGIN:VEVENT
DTSTART;TZID=America/New_York:20220923T200000
DTEND;TZID=America/New_York:20220923T200000
DTSTAMP:20260422T062251
CREATED:20220615T193352Z
LAST-MODIFIED:20220615T193352Z
UID:216561-1663963200-1663963200@theriverboston.com
SUMMARY:COIN @ MGM Music Hall at Fenway
DESCRIPTION:COIN is returning to Boston on their Uncanny Valley Tour.\nSee them perform live at MGM Music Hall at Fenway!\nSeptember 23\, 2022 at 8pm
URL:https://theriverboston.com/events/coin-mgm-music-hall-at-fenway/
LOCATION:MGM Music Hall at Fenway\, 2 Lansdowne Street\, Boston\, MA\, 02215\, United States
END:VEVENT
END:VCALENDAR