BEGIN:VCALENDAR
VERSION:2.0
PRODID:-//92.5 the River - ECPv5.16.3.1//NONSGML v1.0//EN
CALSCALE:GREGORIAN
METHOD:PUBLISH
X-WR-CALNAME:92.5 the River
X-ORIGINAL-URL:https://theriverboston.com
X-WR-CALDESC:Events for 92.5 the River
BEGIN:VTIMEZONE
TZID:America/New_York
BEGIN:DAYLIGHT
TZOFFSETFROM:-0500
TZOFFSETTO:-0400
TZNAME:EDT
DTSTART:20220313T070000
END:DAYLIGHT
BEGIN:STANDARD
TZOFFSETFROM:-0400
TZOFFSETTO:-0500
TZNAME:EST
DTSTART:20221106T060000
END:STANDARD
END:VTIMEZONE
BEGIN:VEVENT
DTSTART;TZID=America/New_York:20220925T000000
DTEND;TZID=America/New_York:20220925T000000
DTSTAMP:20260422T050533
CREATED:20220519T173051Z
LAST-MODIFIED:20220519T173051Z
UID:216273-1664064000-1664064000@theriverboston.com
SUMMARY:Caamp @Leader Bank Pavilion
DESCRIPTION:Caamp is on tour in support of their new album “Lavender Days”. They will be coming to the Leader Bank Pavilion on September 25th\, don’t miss your chance to get tickets to this amazing show!
URL:https://theriverboston.com/events/caamp-leader-bank-pavilion/
LOCATION:Leader Bank Pavilion\, 290 Northern Ave\, Boston\, MA\, 02210\, United States
END:VEVENT
END:VCALENDAR