BEGIN:VCALENDAR
VERSION:2.0
PRODID:-//92.5 the River - ECPv5.16.3.1//NONSGML v1.0//EN
CALSCALE:GREGORIAN
METHOD:PUBLISH
X-WR-CALNAME:92.5 the River
X-ORIGINAL-URL:https://theriverboston.com
X-WR-CALDESC:Events for 92.5 the River
BEGIN:VTIMEZONE
TZID:America/New_York
BEGIN:DAYLIGHT
TZOFFSETFROM:-0500
TZOFFSETTO:-0400
TZNAME:EDT
DTSTART:20220313T070000
END:DAYLIGHT
BEGIN:STANDARD
TZOFFSETFROM:-0400
TZOFFSETTO:-0500
TZNAME:EST
DTSTART:20221106T060000
END:STANDARD
END:VTIMEZONE
BEGIN:VEVENT
DTSTART;TZID=America/New_York:20221001T000000
DTEND;TZID=America/New_York:20221001T000000
DTSTAMP:20260421T165047
CREATED:20220519T175411Z
LAST-MODIFIED:20220519T175411Z
UID:216279-1664582400-1664582400@theriverboston.com
SUMMARY:Death Cab for Cutie @Leader Bank Pavilion
DESCRIPTION:Death Cab for Cutie is back on tour with special guest Low! They will be coming to the Leader Bank Pavilion on Saturday October 1st! Do not miss your chance to see this awesome show!
URL:https://theriverboston.com/events/death-cab-for-cutie-leader-bank-pavilion/
LOCATION:Leader Bank Pavilion\, 290 Northern Ave\, Boston\, MA\, 02210\, United States
END:VEVENT
BEGIN:VEVENT
DTSTART;TZID=America/New_York:20221001T120000
DTEND;TZID=America/New_York:20221001T170000
DTSTAMP:20260421T165047
CREATED:20220805T140849Z
LAST-MODIFIED:20220909T190519Z
UID:216994-1664625600-1664643600@theriverboston.com
SUMMARY:Powder Keg Beer & Chili Fest - Exeter
DESCRIPTION:The 10th Annual Powder Keg Beer & Chili Festival\n\nCLICK TO BUY TICKETS\n*Tickets can only be purchased online in advance – no tickets sold at the gate* \nSession #1 hours: 12:00-2:00pm \nSession #2 hours: 3:00-5:00pm \nFAQS \nPARTICIPATING BREWERIES \nSTAY UP-TO-DATE ON FACEBOOK & TWITTER
URL:https://theriverboston.com/events/powder-keg-beer-chili-fest/
LOCATION:Swasey Parkway\, Swasey Parkway\, Exeter\, NH\, 03833\, United States
END:VEVENT
BEGIN:VEVENT
DTSTART;TZID=America/New_York:20221001T173000
DTEND;TZID=America/New_York:20221001T183000
DTSTAMP:20260421T165047
CREATED:20220915T164454Z
LAST-MODIFIED:20220915T164454Z
UID:217238-1664645400-1664649000@theriverboston.com
SUMMARY:Talent Show - Presented by Concord Coalition to End Homelessness
DESCRIPTION:The Concord Coalition to End Homelessness Talent Show\nNew this year is the exclusive After Party!\nBUY TICKETS HERE\n  \nFor just $50\, you will get to see the amazing acts in the Talent Show and attend the After Party. The Talent Show is about the community coming together to have fun\, enjoy each other’s company\, promote awareness about the homelessness crisis\, and raise very needed funds. According to Greg Lessard\, CCEH’s Director of Housing Initiatives and Chair of the Talent Show Committee\, “The energy that fills the building during the Talent Show is just phenomenal. At the end of the show\, no one wants to leave!” \n  \nThis year\, the first-ever Talent Show After Party runs from 6:30-9:00 PM. The After Party promises to provide the perfect mix of great music\, food and friends. All guests will be rockin’ to the nostalgic Doo Wop music performed by the Rockin Daddios followed by the energetic sounds of the 10-piece band\, the Blues Brothers\, Next Generation. Guests will enjoy complimentary food and crowd favorite fund-raising games. A cash bar will also be available.
URL:https://theriverboston.com/events/talent-show-presented-by-concord-coalition-to-end-homelessness/
LOCATION:Bank of NH Stage\, 16 S Main Street\, Concord\, NH\, 03301\, United States
END:VEVENT
BEGIN:VEVENT
DTSTART;TZID=America/New_York:20221001T193000
DTEND;TZID=America/New_York:20221001T193000
DTSTAMP:20260421T165047
CREATED:20220831T213931Z
LAST-MODIFIED:20220831T213931Z
UID:217160-1664652600-1664652600@theriverboston.com
SUMMARY:Chris Fitz Band - Crafted Concert Series
DESCRIPTION:THE CRAFTED CONCERT SERIES\n\nBUY TICKETS FOR CHRIS FITZ BAND\nOne of the premier “original” blues and roots acts in all of New England… \nChris Fitz broke into the Boston music scene back in 1994 after a 5 year stint in the San Francisco area. Upon moving back to Boston\, his hometown\, he wasted no time to find his way into a working band. With great singing\, songwriting and his blistering guitar he soon began to make an impact! \n 
URL:https://theriverboston.com/events/chris-fitz-band-crafted-concert-series/
LOCATION:Jean’s Playhouse\, 34 Papermill Drive\, Lincoln\, NH\, 03251\, United States
END:VEVENT
END:VCALENDAR