BEGIN:VCALENDAR
VERSION:2.0
PRODID:-//92.5 the River - ECPv5.16.3.1//NONSGML v1.0//EN
CALSCALE:GREGORIAN
METHOD:PUBLISH
X-WR-CALNAME:92.5 the River
X-ORIGINAL-URL:https://theriverboston.com
X-WR-CALDESC:Events for 92.5 the River
BEGIN:VTIMEZONE
TZID:America/New_York
BEGIN:DAYLIGHT
TZOFFSETFROM:-0500
TZOFFSETTO:-0400
TZNAME:EDT
DTSTART:20230312T070000
END:DAYLIGHT
BEGIN:STANDARD
TZOFFSETFROM:-0400
TZOFFSETTO:-0500
TZNAME:EST
DTSTART:20231105T060000
END:STANDARD
END:VTIMEZONE
BEGIN:VEVENT
DTSTART;TZID=America/New_York:20230318T190000
DTEND;TZID=America/New_York:20230318T190000
DTSTAMP:20260421T055356
CREATED:20230224T170209Z
LAST-MODIFIED:20230224T173426Z
UID:218460-1679166000-1679166000@theriverboston.com
SUMMARY:Dropkick Murphys at MGM Music Hall
DESCRIPTION:Dropkick Murphys are back for their iconic annual shows\, for the first time at MGM Music Hall! Ship up to Boston for one of three shows – March 16-18.
URL:https://theriverboston.com/events/dropkick-murphys-3-18/
LOCATION:MGM Music Hall at Fenway\, 2 Lansdowne Street\, Boston\, MA\, 02215\, United States
END:VEVENT
BEGIN:VEVENT
DTSTART;TZID=America/New_York:20230318T190000
DTEND;TZID=America/New_York:20230318T190000
DTSTAMP:20260421T055356
CREATED:20230224T174016Z
LAST-MODIFIED:20230302T151925Z
UID:218464-1679166000-1679166000@theriverboston.com
SUMMARY:Inhaler at House of Blues
DESCRIPTION:Inhaler with support from Sun Room\, March 18 at House of Blues Boston.
URL:https://theriverboston.com/events/inhaler-at-house-of-blues/
LOCATION:House of Blues Boston\, 15 Landsdowne Street\, Boston\, MA\, 02215\, United States
END:VEVENT
BEGIN:VEVENT
DTSTART;TZID=America/New_York:20230318T193000
DTEND;TZID=America/New_York:20230318T213000
DTSTAMP:20260421T055356
CREATED:20230314T181845Z
LAST-MODIFIED:20230322T140857Z
UID:218732-1679167800-1679175000@theriverboston.com
SUMMARY:John McEuen and The Circle Band at The Rex Theatre
DESCRIPTION:John McEuen (co-founder\, 50-year member of of Nitty Gritty Dirt Band) has performed for 55 years worldwide with his banjo\, fiddle\, guitar\, and mandolin. Find tickets here!
URL:https://theriverboston.com/events/john-mceuen-and-the-circle-band-at-the-palace-theatre/
LOCATION:The Rex Theatre\, 23 Amherst St\, Manchester\, NH\, 03101\, United States
END:VEVENT
BEGIN:VEVENT
DTSTART;TZID=America/New_York:20230318T200000
DTEND;TZID=America/New_York:20230318T200000
DTSTAMP:20260421T055356
CREATED:20230224T174512Z
LAST-MODIFIED:20230302T151151Z
UID:218466-1679169600-1679169600@theriverboston.com
SUMMARY:Blue October at the Orpheum Theatre
DESCRIPTION:Blue October’s Spinning Around the Truth tour\, March 18 at the Orpheum Theatre
URL:https://theriverboston.com/events/blue-october-at-the-orpheum-theatre/
LOCATION:Orpheum Theatre\, 1 Hamilton Place\, Boston\, MA\, 02108\, United States
END:VEVENT
END:VCALENDAR