BEGIN:VCALENDAR
VERSION:2.0
PRODID:-//92.5 the River - ECPv5.16.3.1//NONSGML v1.0//EN
CALSCALE:GREGORIAN
METHOD:PUBLISH
X-WR-CALNAME:92.5 the River
X-ORIGINAL-URL:https://theriverboston.com
X-WR-CALDESC:Events for 92.5 the River
BEGIN:VTIMEZONE
TZID:America/New_York
BEGIN:DAYLIGHT
TZOFFSETFROM:-0500
TZOFFSETTO:-0400
TZNAME:EDT
DTSTART:20230312T070000
END:DAYLIGHT
BEGIN:STANDARD
TZOFFSETFROM:-0400
TZOFFSETTO:-0500
TZNAME:EST
DTSTART:20231105T060000
END:STANDARD
END:VTIMEZONE
BEGIN:VEVENT
DTSTART;TZID=America/New_York:20230325T193000
DTEND;TZID=America/New_York:20230325T213000
DTSTAMP:20260421T164358
CREATED:20230314T182319Z
LAST-MODIFIED:20230322T140825Z
UID:218734-1679772600-1679779800@theriverboston.com
SUMMARY:Tom Rush at The Rex Theatre
DESCRIPTION:Tom Rush is a gifted musician and performer\, whose shows offer a musical celebration…a journey into the tradition and spectrum of what music has been\, can be\, and will become. His distinctive guitar style\, wry humor and warm\, expressive voice have made him both a legend and a lure to audiences around the world. Find tickets here.
URL:https://theriverboston.com/events/tom-rush-at-the-palace-theatre/
LOCATION:The Rex Theatre\, 23 Amherst St\, Manchester\, NH\, 03101\, United States
END:VEVENT
END:VCALENDAR