BEGIN:VCALENDAR
VERSION:2.0
PRODID:-//92.5 the River - ECPv5.16.3.1//NONSGML v1.0//EN
CALSCALE:GREGORIAN
METHOD:PUBLISH
X-WR-CALNAME:92.5 the River
X-ORIGINAL-URL:https://theriverboston.com
X-WR-CALDESC:Events for 92.5 the River
BEGIN:VTIMEZONE
TZID:America/New_York
BEGIN:DAYLIGHT
TZOFFSETFROM:-0500
TZOFFSETTO:-0400
TZNAME:EDT
DTSTART:20230312T070000
END:DAYLIGHT
BEGIN:STANDARD
TZOFFSETFROM:-0400
TZOFFSETTO:-0500
TZNAME:EST
DTSTART:20231105T060000
END:STANDARD
END:VTIMEZONE
BEGIN:VEVENT
DTSTART;TZID=America/New_York:20230326T190000
DTEND;TZID=America/New_York:20230326T190000
DTSTAMP:20260421T195026
CREATED:20230224T174938Z
LAST-MODIFIED:20230302T152022Z
UID:218468-1679857200-1679857200@theriverboston.com
SUMMARY:Cafuné at Brighton Music Hall
DESCRIPTION:American indie pop duo Cafuné at Brighton Music Hall\, March 26 2023
URL:https://theriverboston.com/events/cafune-at-brighton-music-hall/
LOCATION:Brighton Music Hall\, 158 Brighton Ave\, Allston\, MA\, 02134\, United States
END:VEVENT
END:VCALENDAR