BEGIN:VCALENDAR
VERSION:2.0
PRODID:-//92.5 the River - ECPv5.16.3.1//NONSGML v1.0//EN
CALSCALE:GREGORIAN
METHOD:PUBLISH
X-WR-CALNAME:92.5 the River
X-ORIGINAL-URL:https://theriverboston.com
X-WR-CALDESC:Events for 92.5 the River
BEGIN:VTIMEZONE
TZID:America/New_York
BEGIN:DAYLIGHT
TZOFFSETFROM:-0500
TZOFFSETTO:-0400
TZNAME:EDT
DTSTART:20230312T070000
END:DAYLIGHT
BEGIN:STANDARD
TZOFFSETFROM:-0400
TZOFFSETTO:-0500
TZNAME:EST
DTSTART:20231105T060000
END:STANDARD
END:VTIMEZONE
BEGIN:VEVENT
DTSTART;TZID=America/New_York:20230615T180000
DTEND;TZID=America/New_York:20230615T210000
DTSTAMP:20260421T102425
CREATED:20230508T185703Z
LAST-MODIFIED:20230508T185703Z
UID:219709-1686852000-1686862800@theriverboston.com
SUMMARY:Celebrate The Eighteenth Annual New England Wine Spectacular This Summer!
DESCRIPTION:Sip\, sip\, hooray! This summer celebrates New Hampshire’s Wine Week with 1\,700 wines all paired with a variety of delicious food from the best restaurants in the state all in one place! So hurry and get tickets now because its going to be a wine-derful day! Click here for more information. \n  \n 
URL:https://theriverboston.com/events/celebrate-the-eighteenth-annual-new-england-wine-spectacular-this-summer/
LOCATION:NH Liquor & Wine Outlet\, 700 Elm Street\, Manchester\, NH\, 03101\, United States
END:VEVENT
END:VCALENDAR