BEGIN:VCALENDAR
VERSION:2.0
PRODID:-//92.5 the River - ECPv5.16.3.1//NONSGML v1.0//EN
CALSCALE:GREGORIAN
METHOD:PUBLISH
X-WR-CALNAME:92.5 the River
X-ORIGINAL-URL:https://theriverboston.com
X-WR-CALDESC:Events for 92.5 the River
BEGIN:VTIMEZONE
TZID:America/New_York
BEGIN:DAYLIGHT
TZOFFSETFROM:-0500
TZOFFSETTO:-0400
TZNAME:EDT
DTSTART:20230312T070000
END:DAYLIGHT
BEGIN:STANDARD
TZOFFSETFROM:-0400
TZOFFSETTO:-0500
TZNAME:EST
DTSTART:20231105T060000
END:STANDARD
END:VTIMEZONE
BEGIN:VEVENT
DTSTART;TZID=America/New_York:20230616T180000
DTEND;TZID=America/New_York:20230616T220000
DTSTAMP:20260421T083802
CREATED:20230511T161816Z
LAST-MODIFIED:20230511T161816Z
UID:219800-1686938400-1686952800@theriverboston.com
SUMMARY:The Press Room & Cisco Brewers Presents: Rubblebucket with Lady Lamb
DESCRIPTION:The pop\, funk\, dance and psychedelia duo Rubblebucket are preforming along with Lady Lamb at Cisco Brewers in Portsmouth NH this summer\, June 16th! \n  \n  \n 
URL:https://theriverboston.com/events/the-press-room-cisco-brewers-presents-rubblebucket-with-lady-lamb/
LOCATION:Cisco Brewers Portsmouth\, 35 Corporate Drive\, Portsmouth\, NH\, 03801\, United States
END:VEVENT
BEGIN:VEVENT
DTSTART;TZID=America/New_York:20230616T200000
DTEND;TZID=America/New_York:20230616T220000
DTSTAMP:20260421T083802
CREATED:20230518T185624Z
LAST-MODIFIED:20230518T185624Z
UID:219921-1686945600-1686952800@theriverboston.com
SUMMARY:Christopher Cross & Justin Hayward at Lowell Auditorium
DESCRIPTION:Two of the most iconic voices in music history! Christopher Cross is a winner of five Grammy awards\, and Oscar\, a Golden Globe. Though he is best known for hit single “Sailing” he also has five Top 10 Singles. Justin Hayward lead singer and guitarist for the hit band Moddy Blues which has sold over fifty-five million albums. Entering him a spot in the legendary Rock and Roll Hall of Fame. Tickets and more information! \n  \n  \n 
URL:https://theriverboston.com/events/christopher-cross-justin-hayward-at-lowell-auditorium/
LOCATION:Lowell Memorial Auditorium\, 50 E. Merrimack Street\, Lowell\, MA\, 01852\, United States
END:VEVENT
END:VCALENDAR