BEGIN:VCALENDAR
VERSION:2.0
PRODID:-//92.5 the River - ECPv5.16.3.1//NONSGML v1.0//EN
CALSCALE:GREGORIAN
METHOD:PUBLISH
X-WR-CALNAME:92.5 the River
X-ORIGINAL-URL:https://theriverboston.com
X-WR-CALDESC:Events for 92.5 the River
BEGIN:VTIMEZONE
TZID:America/New_York
BEGIN:DAYLIGHT
TZOFFSETFROM:-0500
TZOFFSETTO:-0400
TZNAME:EDT
DTSTART:20230312T070000
END:DAYLIGHT
BEGIN:STANDARD
TZOFFSETFROM:-0400
TZOFFSETTO:-0500
TZNAME:EST
DTSTART:20231105T060000
END:STANDARD
END:VTIMEZONE
BEGIN:VEVENT
DTSTART;TZID=America/New_York:20230628T190000
DTEND;TZID=America/New_York:20230628T190000
DTSTAMP:20260421T083803
CREATED:20230531T184542Z
LAST-MODIFIED:20230531T184542Z
UID:220095-1687978800-1687978800@theriverboston.com
SUMMARY:Prescott Park Arts Festival Presents Spencer And The Walrus
DESCRIPTION:Spencer and the Walrus is a consortium of Portland\, ME based musicians who come together through a shared love of Beatles music\, including solo material. All members are active recording and touring artists who were all recently featured in a Rolling Stone article which highlighted Portland’s ambitious music scene. The goal of The Walrus is to translate Beatles recordings as accurately as possible in a live show setting. No wigs\, no accents\, and a little bit too loud. \nCome jam out with The Walrus on June 28th at the Prescott Park Arts Festival! \nMore info here!
URL:https://theriverboston.com/events/prescott-park-arts-festival-presents-spencer-and-the-walrus/
LOCATION:Prescott Park\, 105 Marcy Street\, Portsmouth\, NH\, 03801\, United States
END:VEVENT
END:VCALENDAR