BEGIN:VCALENDAR
VERSION:2.0
PRODID:-//92.5 the River - ECPv5.16.3.1//NONSGML v1.0//EN
CALSCALE:GREGORIAN
METHOD:PUBLISH
X-WR-CALNAME:92.5 the River
X-ORIGINAL-URL:https://theriverboston.com
X-WR-CALDESC:Events for 92.5 the River
BEGIN:VTIMEZONE
TZID:America/New_York
BEGIN:DAYLIGHT
TZOFFSETFROM:-0500
TZOFFSETTO:-0400
TZNAME:EDT
DTSTART:20230312T070000
END:DAYLIGHT
BEGIN:STANDARD
TZOFFSETFROM:-0400
TZOFFSETTO:-0500
TZNAME:EST
DTSTART:20231105T060000
END:STANDARD
END:VTIMEZONE
BEGIN:VEVENT
DTSTART;TZID=America/New_York:20230630T200000
DTEND;TZID=America/New_York:20230630T200000
DTSTAMP:20260421T115525
CREATED:20230616T195047Z
LAST-MODIFIED:20230616T195803Z
UID:220409-1688155200-1688155200@theriverboston.com
SUMMARY:Rufus Wainwright at The Music Hall Portsmouth
DESCRIPTION:BUY TICKETS HERE\nSee Rufus Wainwright with opener Lucy Wainwright Roche\nPraised by the New York Times for his “genuine originality\,” Rufus Wainwright has established himself as one of the great male vocalists\, songwriters\, and composers of his generation. “Folkocracy” is Rufus Wainwright revisiting his roots\, of childhood summers spent at folk festivals and watching his famous family on stage. But it’s also the sound of an artist in the present using all he has learnt from conquering pop to opera and showtunes. \nThe album\, Rufus’s 12th studio album\, features an all-star cast of guests\, including Brandi Carlile\, Chaka Khan\, David Byrne\, Anohni\, Sheryl Crow\, John Legend\, Nicole Scherzinger\, and his family of course among others. READ MORE \n\nFIND MORE MUSIC AT THE HISTORIC THEATRE HERE
URL:https://theriverboston.com/events/rufus-wainwright-at-the-music-hall-portsmouth/
LOCATION:The Music Hall\, 28 Chestnut Street\, Portsmouth\, NH\, 03801\, United States
END:VEVENT
END:VCALENDAR