BEGIN:VCALENDAR
VERSION:2.0
PRODID:-//92.5 the River - ECPv5.16.3.1//NONSGML v1.0//EN
CALSCALE:GREGORIAN
METHOD:PUBLISH
X-WR-CALNAME:92.5 the River
X-ORIGINAL-URL:https://theriverboston.com
X-WR-CALDESC:Events for 92.5 the River
BEGIN:VTIMEZONE
TZID:America/New_York
BEGIN:DAYLIGHT
TZOFFSETFROM:-0500
TZOFFSETTO:-0400
TZNAME:EDT
DTSTART:20230312T070000
END:DAYLIGHT
BEGIN:STANDARD
TZOFFSETFROM:-0400
TZOFFSETTO:-0500
TZNAME:EST
DTSTART:20231105T060000
END:STANDARD
END:VTIMEZONE
BEGIN:VEVENT
DTSTART;TZID=America/New_York:20230701T180000
DTEND;TZID=America/New_York:20230701T220000
DTSTAMP:20260421T132607
CREATED:20230523T150835Z
LAST-MODIFIED:20230523T150835Z
UID:219939-1688234400-1688248800@theriverboston.com
SUMMARY:The Press Room & Cisco Brewers Portsmouth presents: Pink Talking Fish
DESCRIPTION:Pink Talking Fish| Saturday\, July 1st\nMust be 21+ to attended\nPink Talking Fish is a Hybrid Tribute Fusion Act that takes the music from three of the world’s most beloved bands and creates a special treat for fans of the music. Phenomenon’s such as Pink Floyd\, The Talking Heads\, and Phish preforming an amazing story by fusing each of their band’s unique sounds. Tickets and more! \n  \n  \n 
URL:https://theriverboston.com/events/the-press-room-cisco-brewers-portsmouth-presents-pink-talking-fish/
LOCATION:Cisco Brewers Portsmouth\, 35 Corporate Drive\, Portsmouth\, NH\, 03801\, United States
END:VEVENT
BEGIN:VEVENT
DTSTART;TZID=America/New_York:20230701T200000
DTEND;TZID=America/New_York:20230701T200000
DTSTAMP:20260421T132607
CREATED:20230228T183844Z
LAST-MODIFIED:20230228T183844Z
UID:218526-1688241600-1688241600@theriverboston.com
SUMMARY:Weezer at The Palladium Outdoors
DESCRIPTION:Weezer’s Indie Rock Roadtrip is coming through Massachusetts\, and bringing Future Islands and Joyce Manor along for the ride!
URL:https://theriverboston.com/events/weezer-at-the-palladium-outdoors/
LOCATION:The Palladium\, 261 Main St\, Worcester\, MA\, 01608\, United States
END:VEVENT
END:VCALENDAR