BEGIN:VCALENDAR
VERSION:2.0
PRODID:-//92.5 the River - ECPv5.16.3.1//NONSGML v1.0//EN
CALSCALE:GREGORIAN
METHOD:PUBLISH
X-WR-CALNAME:92.5 the River
X-ORIGINAL-URL:https://theriverboston.com
X-WR-CALDESC:Events for 92.5 the River
BEGIN:VTIMEZONE
TZID:America/New_York
BEGIN:DAYLIGHT
TZOFFSETFROM:-0500
TZOFFSETTO:-0400
TZNAME:EDT
DTSTART:20230312T070000
END:DAYLIGHT
BEGIN:STANDARD
TZOFFSETFROM:-0400
TZOFFSETTO:-0500
TZNAME:EST
DTSTART:20231105T060000
END:STANDARD
END:VTIMEZONE
BEGIN:VEVENT
DTSTART;TZID=America/New_York:20230703T190000
DTEND;TZID=America/New_York:20230703T190000
DTSTAMP:20260421T162018
CREATED:20230221T205334Z
LAST-MODIFIED:20230221T205334Z
UID:218369-1688410800-1688410800@theriverboston.com
SUMMARY:Tedeschi Trucks Band at Bank of NH Pavilion
DESCRIPTION:Parking: 4:30pm \nDoors: 5:30pm
URL:https://theriverboston.com/events/tedeschi-trucks-band-at-bank-of-nh-pavilion/
LOCATION:Bank Of New Hampshire Pavilion\, 72 Meadowbrook Ln\, Gilford\, NH\, 03249\, United States
END:VEVENT
END:VCALENDAR