BEGIN:VCALENDAR
VERSION:2.0
PRODID:-//92.5 the River - ECPv5.16.3.1//NONSGML v1.0//EN
CALSCALE:GREGORIAN
METHOD:PUBLISH
X-WR-CALNAME:92.5 the River
X-ORIGINAL-URL:https://theriverboston.com
X-WR-CALDESC:Events for 92.5 the River
BEGIN:VTIMEZONE
TZID:America/New_York
BEGIN:DAYLIGHT
TZOFFSETFROM:-0500
TZOFFSETTO:-0400
TZNAME:EDT
DTSTART:20230312T070000
END:DAYLIGHT
BEGIN:STANDARD
TZOFFSETFROM:-0400
TZOFFSETTO:-0500
TZNAME:EST
DTSTART:20231105T060000
END:STANDARD
END:VTIMEZONE
BEGIN:VEVENT
DTSTART;VALUE=DATE:20230707
DTEND;VALUE=DATE:20230710
DTSTAMP:20260421T071620
CREATED:20230223T185803Z
LAST-MODIFIED:20230223T185818Z
UID:218428-1688688000-1688947199@theriverboston.com
SUMMARY:Levitate Music & Arts Festival
DESCRIPTION:The Levitate Music and Arts Festival is a grassroots music and arts festival featuring roots\, reggae\, folk rock\, funk music.  Levitate is a community oriented\, family friendly\, eco-driven and eclectic three day event.
URL:https://theriverboston.com/events/levitate-music-festival/
LOCATION:Marshfield Fairgrounds\, 140 Main St\, Marshfield\, MA\, 02050\, United States
END:VEVENT
BEGIN:VEVENT
DTSTART;TZID=America/New_York:20230709T190000
DTEND;TZID=America/New_York:20230709T190000
DTSTAMP:20260421T071620
CREATED:20230531T191545Z
LAST-MODIFIED:20230531T191545Z
UID:220098-1688929200-1688929200@theriverboston.com
SUMMARY:Prescott Park Arts Festival Presents Galactic Featuring Anjelika Jelly Joseph
DESCRIPTION:Galactic has cultivated 25 years together in order to progress with each performance and subsequent record. After 10 albums\, over 2\,000 gigs\, and tens of millions of streams\, the proud New Orleans\, LA quintet—Ben Ellman [saxophone\, harmonica]\, Robert Mercurio [bass]\, Stanton Moore [drums\, percussion]\, Jeffrey Raines [guitar]\, and Richard Vogal [keyboards]—have kept the torch burning through five U.S. presidential regimes\, the turn-of-the-century\, Hurricane Katrina\, a Global Pandemic\, and a much-anticipated recovery. Joining them is the angelic voice Anjelika “Jelly” Joseph. \nSee the group play live on July 9th at the Prescott Park Arts Festival! \nMore info here!
URL:https://theriverboston.com/events/prescott-park-arts-festival-presents-galactic-featuring-anjelika-jelly-joseph/
LOCATION:Prescott Park\, 105 Marcy Street\, Portsmouth\, NH\, 03801\, United States
END:VEVENT
END:VCALENDAR