BEGIN:VCALENDAR
VERSION:2.0
PRODID:-//92.5 the River - ECPv5.16.3.1//NONSGML v1.0//EN
CALSCALE:GREGORIAN
METHOD:PUBLISH
X-WR-CALNAME:92.5 the River
X-ORIGINAL-URL:https://theriverboston.com
X-WR-CALDESC:Events for 92.5 the River
BEGIN:VTIMEZONE
TZID:America/New_York
BEGIN:DAYLIGHT
TZOFFSETFROM:-0500
TZOFFSETTO:-0400
TZNAME:EDT
DTSTART:20230312T070000
END:DAYLIGHT
BEGIN:STANDARD
TZOFFSETFROM:-0400
TZOFFSETTO:-0500
TZNAME:EST
DTSTART:20231105T060000
END:STANDARD
END:VTIMEZONE
BEGIN:VEVENT
DTSTART;TZID=America/New_York:20230730T183000
DTEND;TZID=America/New_York:20230730T230000
DTSTAMP:20260421T223151
CREATED:20230713T152135Z
LAST-MODIFIED:20230713T152504Z
UID:220793-1690741800-1690758000@theriverboston.com
SUMMARY:Jimmy's Jazz & Blues Club Presents DELFEAYO MARSALIS & THE UPTOWN JAZZ ORCHESTRA for 2 Shows July 30\,2023 (6:30PM & 9PM)
DESCRIPTION:NEA Jazz Master & GRAMMY® Award-Winning Jazz Producer\, Composer & Trombonist DELFEAYO MARSALIS & THE UPTOWN JAZZ ORCHESTRA are one of the best Big Band Jazz Ensembles in the world today. Delfeayo Marsalis is one of the top Trombonists\, Composers & Producers in Jazz. He has toured internationally with jazz legends such as Ray Charles\, Art Blakey\, and Slide Hampton\, as well as leading his own groups. In 2008\, Delfeayo formed the Uptown Jazz Orchestra\, a highly entertaining ensemble that focuses on maintaining important jazz traditions \nFor more info click HERE!
URL:https://theriverboston.com/events/jimmys-jazz-30pm-9pm/
LOCATION:Jimmy’s Jazz & Blues Club\, 135 Congress Street\, Portsmouth\, NH\, 03801\, United States
END:VEVENT
END:VCALENDAR