BEGIN:VCALENDAR
VERSION:2.0
PRODID:-//92.5 the River - ECPv5.16.3.1//NONSGML v1.0//EN
CALSCALE:GREGORIAN
METHOD:PUBLISH
X-WR-CALNAME:92.5 the River
X-ORIGINAL-URL:https://theriverboston.com
X-WR-CALDESC:Events for 92.5 the River
BEGIN:VTIMEZONE
TZID:America/New_York
BEGIN:DAYLIGHT
TZOFFSETFROM:-0500
TZOFFSETTO:-0400
TZNAME:EDT
DTSTART:20230312T070000
END:DAYLIGHT
BEGIN:STANDARD
TZOFFSETFROM:-0400
TZOFFSETTO:-0500
TZNAME:EST
DTSTART:20231105T060000
END:STANDARD
END:VTIMEZONE
BEGIN:VEVENT
DTSTART;TZID=America/New_York:20230908T100000
DTEND;TZID=America/New_York:20230910T210000
DTSTAMP:20260420T194818
CREATED:20230612T162429Z
LAST-MODIFIED:20230612T202350Z
UID:220282-1694167200-1694379600@theriverboston.com
SUMMARY:Hampton Beach Seafood Festival
DESCRIPTION:The biggest party on the Beach returns for its 34th year! \nTWO stages of music\, and a full lineup of entertainment all weekend long. Folk\, rock\, swing\, something for everyone. More than 15 performances over the course of the weekend will provide the perfect soundtrack for your festival excursion. Get ready to Rock ‘n’ (Lobster) Roll! \nPlus a huge fireworks display Saturday night! \nFESTIVAL HOURS: 10:00 AM – 9:00 PM \nFestival closes at 9:00 pm / Drink Tickets Sales Stop at 9:00 pm / Last Drink is Served at 9:30 pm / Last Shuttle Leaves at 11 pm \nMore info here!
URL:https://theriverboston.com/events/hampton-beach-seafood-festival/
LOCATION:Ocean Blvd- Hampton Beach\, NH\, Ocean Blvd\, Hampton\, NH\, 03842\, United States
END:VEVENT
BEGIN:VEVENT
DTSTART;TZID=America/New_York:20230908T120000
DTEND;TZID=America/New_York:20230910T180000
DTSTAMP:20260420T194818
CREATED:20230818T163227Z
LAST-MODIFIED:20230818T163551Z
UID:221189-1694174400-1694368800@theriverboston.com
SUMMARY:
DESCRIPTION:Featuring Local Restaurants serving an abundance of seafood and non-seafood menus plus the only bar on the beach in NH. Visit the Craft booths and\, Pop-Up Art Show. For your entertainment\, two stages for live entertainment\, Cornhole Tournament\, Lobster Roll Eating Contest\, Seafood Fest 5K\, cooking demonstrations in the Culinary Tent\, and spectacular fireworks. Come celebrate the last blast of summer as the Hampton Beach Seafood Festival takes over Ocean Boulevard for the weekend. Fireworks Saturday\, Sept. 9th. Click here for a full schedule of events.
URL:https://theriverboston.com/events/221189/
LOCATION:Hampton Beach\, Hampton\, NH\, 03842\, United States
END:VEVENT
BEGIN:VEVENT
DTSTART;TZID=America/New_York:20230909T120000
DTEND;TZID=America/New_York:20230909T140000
DTSTAMP:20260420T194818
CREATED:20230907T150116Z
LAST-MODIFIED:20230907T150116Z
UID:221315-1694260800-1694268000@theriverboston.com
SUMMARY:VIP Tires and Service Lowell Grand Opening
DESCRIPTION:Come celebrate the grand opening of a new location for VIP Tires and Service in Lowell!
URL:https://theriverboston.com/events/vip-tires-and-service-lowell-grand-opening/
LOCATION:VIP Tires and Service Lowell\, 338 Merrimack Street\, Lowell\, MA\, United States
END:VEVENT
BEGIN:VEVENT
DTSTART;TZID=America/New_York:20230909T180000
DTEND;TZID=America/New_York:20230909T220000
DTSTAMP:20260420T194818
CREATED:20230630T141324Z
LAST-MODIFIED:20230630T142105Z
UID:220629-1694282400-1694296800@theriverboston.com
SUMMARY:Cisco Brewers Portsmouth & The Press Room Present Joe Samba
DESCRIPTION:Must be 21+ to attend! \nGuitar slung low\, microphone turned up\, and emotion overflowing\, Joe Samba taps into rock ‘n’ roll spirit and reggae soul all at once. The Massachusetts-born singer\, songwriter\, and guitarist sonically teeters on an axis of island-inflected grooves and gritty guitar-craft balanced by his dynamic vocals. He finds the sweet spot between smoked-out Caribbean bliss and sweat-soaked punkified energy. It’s why he’s quietly emerged as a phenomenon\, toppling charts at #1 and performing alongside everyone from The Dirty Heads to Pepper. \nHowever\, he’s primed to unite not only genres\, but people as well through a series of 2023 releases and much more to come. \n“No matter what walk of life you’re from\, I’d love for you to hear the conviction in my music\,” he notes. “I hope you think\, ‘This dude meant it’. Maybe you relate to what I’m singing about or just cut loose for a little bit. I just write songs and try to connect with people.”
URL:https://theriverboston.com/events/cisco-brewers-portsmouth-the-press-room-present-joe-samba/
LOCATION:Cisco Brewers Portsmouth\, 35 Corporate Drive\, Portsmouth\, NH\, 03801\, United States
END:VEVENT
BEGIN:VEVENT
DTSTART;TZID=America/New_York:20230909T200000
DTEND;TZID=America/New_York:20230909T200000
DTSTAMP:20260420T194818
CREATED:20230321T172931Z
LAST-MODIFIED:20230321T172931Z
UID:218868-1694289600-1694289600@theriverboston.com
SUMMARY:Noah Kahan at Xfinity Center
DESCRIPTION:Noah Kahan’s Stick Season Tour comes to Massachusetts September 9th! Join the singer-songwriter for a night at the Xfinity Center. Tickets HERE!
URL:https://theriverboston.com/events/noah-kahan-at-xfinity-center/
LOCATION:Xfinity Center\, 885 S Main St\, Mansfield \, MA\, 02048\, United States
END:VEVENT
END:VCALENDAR