BEGIN:VCALENDAR
VERSION:2.0
PRODID:-//92.5 the River - ECPv5.16.3.1//NONSGML v1.0//EN
CALSCALE:GREGORIAN
METHOD:PUBLISH
X-WR-CALNAME:92.5 the River
X-ORIGINAL-URL:https://theriverboston.com
X-WR-CALDESC:Events for 92.5 the River
BEGIN:VTIMEZONE
TZID:America/New_York
BEGIN:DAYLIGHT
TZOFFSETFROM:-0500
TZOFFSETTO:-0400
TZNAME:EDT
DTSTART:20230312T070000
END:DAYLIGHT
BEGIN:STANDARD
TZOFFSETFROM:-0400
TZOFFSETTO:-0500
TZNAME:EST
DTSTART:20231105T060000
END:STANDARD
END:VTIMEZONE
BEGIN:VEVENT
DTSTART;TZID=America/New_York:20230925T193000
DTEND;TZID=America/New_York:20230925T193000
DTSTAMP:20260421T192708
CREATED:20230717T183751Z
LAST-MODIFIED:20230717T183751Z
UID:220850-1695670200-1695670200@theriverboston.com
SUMMARY:Boygenius at MGM Music Hall
DESCRIPTION:Join us for an unforgettable night of soul-stirring melodies and electrifying performances by Boygenius. On tour for their newest album The Record\, the group\, with their unique blend of genres and captivating stage presence\, is sure to leave you spellbound. \nCome see them live at MGM Music Hall this fall! \nMore info here!
URL:https://theriverboston.com/events/boygenius-at-mgm-music-hall/
LOCATION:MGM Music Hall at Fenway\, 2 Lansdowne Street\, Boston\, MA\, 02215\, United States
END:VEVENT
END:VCALENDAR