BEGIN:VCALENDAR
VERSION:2.0
PRODID:-//92.5 the River - ECPv5.16.3.1//NONSGML v1.0//EN
CALSCALE:GREGORIAN
METHOD:PUBLISH
X-WR-CALNAME:92.5 the River
X-ORIGINAL-URL:https://theriverboston.com
X-WR-CALDESC:Events for 92.5 the River
BEGIN:VTIMEZONE
TZID:America/New_York
BEGIN:DAYLIGHT
TZOFFSETFROM:-0500
TZOFFSETTO:-0400
TZNAME:EDT
DTSTART:20230312T070000
END:DAYLIGHT
BEGIN:STANDARD
TZOFFSETFROM:-0400
TZOFFSETTO:-0500
TZNAME:EST
DTSTART:20231105T060000
END:STANDARD
END:VTIMEZONE
BEGIN:VEVENT
DTSTART;TZID=America/New_York:20230926T193000
DTEND;TZID=America/New_York:20230926T220000
DTSTAMP:20260421T205443
CREATED:20230907T163133Z
LAST-MODIFIED:20230907T163322Z
UID:221325-1695756600-1695765600@theriverboston.com
SUMMARY:The Full Monty - Opening Night at North Shore Music Theatre
DESCRIPTION:BUY TICKETS HERE\nTHE FULL MONTY  | FULL LIST OF SHOWS BELOW\nBased on the hit film THE FULL MONTY will make you laugh and grab your heart. While spying on their wives at a “girls’ night out” a group of unemployed steelworkers from Buffalo hatch a bold and unclothed plan to make some quick cash. As they conquer their fears\, self-consciousness and prejudices\, the lovable misfits come to discover that they’re stronger as a group\, and the friendship they find in each other gives them the courage to “let it go.”\nMORE INFO \n\nOpening night: 9/26 @ 7:30pm\nWednesday 9/27 @ 2pm\nWednesday 9/27 @ 7:30pm\nThursday 9/28 @ 7:30pm\nFriday 9/29 @ 8pm\nSaturday 9/30 @ 2pm\nSaturday 9/30 @ 8pm\nSunday 10/1 @ 2pm\nTuesday 10/3 @ 7:30pm\nWednesday 10/4 @ 2pm\nWednesday 10/4 @ 7:30pm\nThursday 10/5 @ 7:30pm\nFriday 10/6 @ 8pm\nSaturday 10/7 @  2pm\nSaturday 10/7 @ 8pm\nClosing Night 10/8 @ 2pm
URL:https://theriverboston.com/events/the-full-monty-opening-night-at-north-shore-music-theatre/
LOCATION:North Shore Music Theatre\, 62 Dunham Road\, Beverly\, MA\, 01915\, United States
END:VEVENT
END:VCALENDAR