BEGIN:VCALENDAR
VERSION:2.0
PRODID:-//92.5 the River - ECPv5.16.3.1//NONSGML v1.0//EN
CALSCALE:GREGORIAN
METHOD:PUBLISH
X-WR-CALNAME:92.5 the River
X-ORIGINAL-URL:https://theriverboston.com
X-WR-CALDESC:Events for 92.5 the River
BEGIN:VTIMEZONE
TZID:America/New_York
BEGIN:DAYLIGHT
TZOFFSETFROM:-0500
TZOFFSETTO:-0400
TZNAME:EDT
DTSTART:20230312T070000
END:DAYLIGHT
BEGIN:STANDARD
TZOFFSETFROM:-0400
TZOFFSETTO:-0500
TZNAME:EST
DTSTART:20231105T060000
END:STANDARD
END:VTIMEZONE
BEGIN:VEVENT
DTSTART;TZID=America/New_York:20231004T200000
DTEND;TZID=America/New_York:20231004T200000
DTSTAMP:20260422T104125
CREATED:20230424T181430Z
LAST-MODIFIED:20230510T133457Z
UID:219479-1696449600-1696449600@theriverboston.com
SUMMARY:Joy Oladokun at Roadrunner
DESCRIPTION:  \nSee Joy Oladokun perform her new album Proof of Life this fall\, October 4 at Roadrunner in Boston. Enter here of more information. \n 
URL:https://theriverboston.com/events/joy-oladokun-performing-at-roadrunner-in-boston/
LOCATION:Roadrunner\, 89 Guest Street\, Boston\, MA\, 02135\, United States
END:VEVENT
BEGIN:VEVENT
DTSTART;TZID=America/New_York:20231004T200000
DTEND;TZID=America/New_York:20231004T200000
DTSTAMP:20260422T104125
CREATED:20230926T172307Z
LAST-MODIFIED:20231003T142330Z
UID:221487-1696449600-1696449600@theriverboston.com
SUMMARY:Cancelled Ben Harper & The Innocent Criminals at Casino Ballroom
DESCRIPTION:BUY TICKETS HERE\nBen Harper & The Innocent Criminals have had to cancel their upcoming shows in Portland\, ME on Oct. 3 and Hampton Beach\, NH on Oct. 4 due to COVID-19 illness within the touring party. For more information please visit http://benharper.com/news\nBEN HARPER & THE INNOCENT CRIMINALS w/ MENDELEYEV\nDoors: 7pm | 18+ \nIn 1993 Virgin Records offered Ben Harper a worldwide recording contract and he released his debut\, Welcome to the Cruel World in 1994. The album was created with musicians who would eventually become known as the Innocent Criminals (percussionist Leon Mobley\, bassist Juan Nelson and drummer Oliver Charles). What makes the band so unique is that they come from different places musically and complement each other because of the different styles that they play. This led to a string of successful and critically acclaimed albums and the accolades poured in. Rolling Stone hailed his “jewels of unique and exquisitely tender rock & roll\,” while Entertainment Weekly praised his “casual profundity\,” and Billboard said his music “reminds us of the power and beauty of simplicity.” \n3 Grammy wins\, and 8 nominations later\, Ben Harper is still exploring every aspect of creating music\, participating in highly acclaimed collaborations\, and prioritizing time for social activism. \nHelpful links: \n\nRead More about Ben Harper’s Sound\nBen Harper’s Website\nMore Casino Ballroom Shows
URL:https://theriverboston.com/events/ben-harper-innocent-criminals-casino-ballroom/
LOCATION:Hampton Beach Casino Ballroom\, 169 Ocean Blvd\, Hampton\, NH\, United States
END:VEVENT
END:VCALENDAR