BEGIN:VCALENDAR
VERSION:2.0
PRODID:-//92.5 the River - ECPv5.16.3.1//NONSGML v1.0//EN
CALSCALE:GREGORIAN
METHOD:PUBLISH
X-WR-CALNAME:92.5 the River
X-ORIGINAL-URL:https://theriverboston.com
X-WR-CALDESC:Events for 92.5 the River
BEGIN:VTIMEZONE
TZID:America/New_York
BEGIN:DAYLIGHT
TZOFFSETFROM:-0500
TZOFFSETTO:-0400
TZNAME:EDT
DTSTART:20230312T070000
END:DAYLIGHT
BEGIN:STANDARD
TZOFFSETFROM:-0400
TZOFFSETTO:-0500
TZNAME:EST
DTSTART:20231105T060000
END:STANDARD
END:VTIMEZONE
BEGIN:VEVENT
DTSTART;TZID=America/New_York:20231006T190000
DTEND;TZID=America/New_York:20231006T190000
DTSTAMP:20260422T132930
CREATED:20230721T193544Z
LAST-MODIFIED:20230721T193544Z
UID:220913-1696618800-1696618800@theriverboston.com
SUMMARY:Andy Frasco & the U.N.
DESCRIPTION:Andy Frasco & the U.N. are hitting Boston this fall. The blues rock band is sure to perform their newest album L’Optimist and other favorites at the Paradise Rock Club. Enter to win between 7/24 and 7/30 here!
URL:https://theriverboston.com/events/andy-frasco-the-u-n/
LOCATION:Paradise Rock Club\, 967 Commonwealth Ave\, Boston\, MA\, 02215\, United States
END:VEVENT
BEGIN:VEVENT
DTSTART;TZID=America/New_York:20231006T200000
DTEND;TZID=America/New_York:20231006T200000
DTSTAMP:20260422T132930
CREATED:20230328T172153Z
LAST-MODIFIED:20230328T172245Z
UID:218971-1696622400-1696622400@theriverboston.com
SUMMARY:John Mayer\, Solo and Acoustic at TD Garden!
DESCRIPTION:John Mayers spring tour was so refreshingly intimate for audiences\, he’s extending the run through the fall! Catch him for another show at TD Garden on October 6\, with support from JP Saxe. Info and tickets here.
URL:https://theriverboston.com/events/john-mayer-solo-and-acoustic-at-td-garden/
LOCATION:TD Garden\, 100 Legends Way\, Boston\, MA\, 02114\, United States
END:VEVENT
END:VCALENDAR