BEGIN:VCALENDAR
VERSION:2.0
PRODID:-//92.5 the River - ECPv5.16.3.1//NONSGML v1.0//EN
CALSCALE:GREGORIAN
METHOD:PUBLISH
X-WR-CALNAME:92.5 the River
X-ORIGINAL-URL:https://theriverboston.com
X-WR-CALDESC:Events for 92.5 the River
BEGIN:VTIMEZONE
TZID:America/New_York
BEGIN:DAYLIGHT
TZOFFSETFROM:-0500
TZOFFSETTO:-0400
TZNAME:EDT
DTSTART:20230312T070000
END:DAYLIGHT
BEGIN:STANDARD
TZOFFSETFROM:-0400
TZOFFSETTO:-0500
TZNAME:EST
DTSTART:20231105T060000
END:STANDARD
END:VTIMEZONE
BEGIN:VEVENT
DTSTART;TZID=America/New_York:20231008T140000
DTEND;TZID=America/New_York:20231008T170000
DTSTAMP:20260422T161231
CREATED:20230907T163557Z
LAST-MODIFIED:20230907T163557Z
UID:221331-1696773600-1696784400@theriverboston.com
SUMMARY:The Full Monty - Closing Night at North Shore Music Theatre
DESCRIPTION:BUY TICKETS HERE\nTHE FULL MONTY\nBased on the hit film THE FULL MONTY will make you laugh and grab your heart. While spying on their wives at a “girls’ night out” a group of unemployed steelworkers from Buffalo hatch a bold and unclothed plan to make some quick cash. As they conquer their fears\, self-consciousness and prejudices\, the lovable misfits come to discover that they’re stronger as a group\, and the friendship they find in each other gives them the courage to “let it go.”\nMORE INFO \n  \n\nWant to see what else is coming to the award-winning North Shore Music Theatre this season? Get the full lineup here
URL:https://theriverboston.com/events/the-full-monty-closing-night-at-north-shore-music-theatre/
LOCATION:North Shore Music Theatre\, 62 Dunham Road\, Beverly\, MA\, 01915\, United States
END:VEVENT
END:VCALENDAR