BEGIN:VCALENDAR
VERSION:2.0
PRODID:-//92.5 the River - ECPv5.16.3.1//NONSGML v1.0//EN
CALSCALE:GREGORIAN
METHOD:PUBLISH
X-WR-CALNAME:92.5 the River
X-ORIGINAL-URL:https://theriverboston.com
X-WR-CALDESC:Events for 92.5 the River
BEGIN:VTIMEZONE
TZID:America/New_York
BEGIN:DAYLIGHT
TZOFFSETFROM:-0500
TZOFFSETTO:-0400
TZNAME:EDT
DTSTART:20230312T070000
END:DAYLIGHT
BEGIN:STANDARD
TZOFFSETFROM:-0400
TZOFFSETTO:-0500
TZNAME:EST
DTSTART:20231105T060000
END:STANDARD
END:VTIMEZONE
BEGIN:VEVENT
DTSTART;TZID=America/New_York:20231014T200000
DTEND;TZID=America/New_York:20231014T213000
DTSTAMP:20260423T003050
CREATED:20230928T185629Z
LAST-MODIFIED:20230928T185629Z
UID:221511-1697313600-1697319000@theriverboston.com
SUMMARY:Edwin McCain Acoustic Trio at Rex Theatre
DESCRIPTION:BUY TICKETS HERE\nEDWIN MCCAIN ACOUSTIC TRIO\nEdwin McCain has been called a “street corner prophet” by the USA Today\, an “aching tenor” by Slate Magazine\, and a “ great American romantic” by the New York Times\, but Edwin is much more than those things. After a 20-year ride on a wave created by recording two of the biggest love songs in the history of music (I’ll Be and I Could Not Ask For More)\, and producing and starring in a tv series (Flippin’ Ships on Animal Planet); Edwin has returned to the road to give fans a deeper look into his discography. \nHelpful links: \n\nRead More about Edwin McCain\nMore Rex Theatre Shows
URL:https://theriverboston.com/events/edwin-mccain-acoustic-trio-at-rex-theatre/
LOCATION:The Rex Theatre\, 23 Amherst St\, Manchester\, NH\, 03101\, United States
END:VEVENT
END:VCALENDAR