BEGIN:VCALENDAR
VERSION:2.0
PRODID:-//92.5 the River - ECPv5.16.3.1//NONSGML v1.0//EN
CALSCALE:GREGORIAN
METHOD:PUBLISH
X-WR-CALNAME:92.5 the River
X-ORIGINAL-URL:https://theriverboston.com
X-WR-CALDESC:Events for 92.5 the River
BEGIN:VTIMEZONE
TZID:America/New_York
BEGIN:DAYLIGHT
TZOFFSETFROM:-0500
TZOFFSETTO:-0400
TZNAME:EDT
DTSTART:20230312T070000
END:DAYLIGHT
BEGIN:STANDARD
TZOFFSETFROM:-0400
TZOFFSETTO:-0500
TZNAME:EST
DTSTART:20231105T060000
END:STANDARD
END:VTIMEZONE
BEGIN:VEVENT
DTSTART;TZID=America/New_York:20231129T190000
DTEND;TZID=America/New_York:20231129T190000
DTSTAMP:20260425T202148
CREATED:20230626T175005Z
LAST-MODIFIED:20230626T175005Z
UID:220578-1701284400-1701284400@theriverboston.com
SUMMARY:Andrew McMahon in the Wilderness at Roadrunner
DESCRIPTION:Andrew McMahon in the Wilderness is back on the road with the New Friends tour. The singer and pianist will perform his newest album Tilt at the Wind No More and other favorites at Roadrunner this fall. For more details click here.
URL:https://theriverboston.com/events/andrew-mcmahon-in-the-wilderness-at-roadrunner/
LOCATION:Roadrunner\, 89 Guest Street\, Boston\, MA\, 02135\, United States
END:VEVENT
BEGIN:VEVENT
DTSTART;TZID=America/New_York:20231129T190000
DTEND;TZID=America/New_York:20231129T203000
DTSTAMP:20260425T202148
CREATED:20231122T162617Z
LAST-MODIFIED:20231122T163732Z
UID:222125-1701284400-1701289800@theriverboston.com
SUMMARY:A Christmas Carol at Merrimack Repertory Theatre - Opening Night
DESCRIPTION:BUY TICKETS HERE\nA CHRISTMAS CAROL | NOV 29-DEC 24\nBy Charles Dickens Adapted and Directed by Courtney Sale\nBack by popular demand! With a nod to Dickens’ time in Lowell and featuring the extraordinary talent of local young artists. A holiday treat for the entire family! Experience Charles Dickens’ timeless yuletide story of transformation and redemption\, featuring Ebenezer Scrooge\, Tiny Tim\, and all of your favorite characters\, including some played by local youth. Spooky\, heartwarming\, and joyful – with a touch of Lowell lore\, it’s the perfect way for families to recapture the spirit of Christmas and create memories for the future. \n“There is nothing in the world so irresistibly contagious as laughter and good humor.” ― Charles Dickens\, A Christmas Carol \nRecommended for age 8 and older. \nFull Schedule of Dates: \n\n11-29 07:00 PM\n11-30 07:00 PM\n12-01 08:00 PM\n12-02 08:00 PM\n12-03 02:00 PM\n12-06 02:00 PM\n12-06 07:00 PM\n12-07 07:00 PM\n12-09 08:00 PM\n12-10 02:00 PM\n12-13 07:00 PM\n12-14 07:00 PM\n12-15 08:00 PM\n12-16 04:00 PM\n12-16 08:00 PM\n12-17 02:00 PM\n12-20 07:00 PM\n12-21 07:00 PM\n12-22 08:00 PM\n12-23 04:00 PM\n12-23 08:00 PM\n12-24 02:00 PM
URL:https://theriverboston.com/events/a-christmas-carol-at-merrimack-repertory-theatre-opening-night/
LOCATION:Merrimack Repertory Theatre\, 50 E Merrimack Street\, Lowell\, MA\, 01852\, United States
END:VEVENT
END:VCALENDAR