BEGIN:VCALENDAR
VERSION:2.0
PRODID:-//92.5 the River - ECPv5.16.3.1//NONSGML v1.0//EN
CALSCALE:GREGORIAN
METHOD:PUBLISH
X-WR-CALNAME:92.5 the River
X-ORIGINAL-URL:https://theriverboston.com
X-WR-CALDESC:Events for 92.5 the River
BEGIN:VTIMEZONE
TZID:America/New_York
BEGIN:DAYLIGHT
TZOFFSETFROM:-0500
TZOFFSETTO:-0400
TZNAME:EDT
DTSTART:20240310T070000
END:DAYLIGHT
BEGIN:STANDARD
TZOFFSETFROM:-0400
TZOFFSETTO:-0500
TZNAME:EST
DTSTART:20241103T060000
END:STANDARD
END:VTIMEZONE
BEGIN:VEVENT
DTSTART;VALUE=DATE:20240405
DTEND;VALUE=DATE:20240408
DTSTAMP:20260422T111631
CREATED:20240320T134854Z
LAST-MODIFIED:20240320T135136Z
UID:223220-1712275200-1712534399@theriverboston.com
SUMMARY:Made in NH Expo 2024!
DESCRIPTION:The Made In NH “Try It & Buy It” Expo is the only Expo that showcases the wide variety of quality products made right here in the Granite State. Now in its 27th year\, the Expo offers exhibitors a great opportunity to meet thousands of buyers\, and shoppers the chance to discover all of the unique products available right here in NH! \nDates and Hours\nApril 5th from 1:00 pm to 7:00 pm\nApril 6th from 10:00 am to 5:00 pm\nApril 7th from 10:00 am to 4:00 pm \nTickets available online or at the door\nAdult: $8\nSenior (65+): $7\nChild (Under 14): Free\n(Tickets are valid for one-day admission to the expo)
URL:https://theriverboston.com/events/made-in-nh-expo/
LOCATION:DoubleTree by Hilton Manchester Downtown\, 700 Elm Street\, Manchester\, NH\, 03101\, United States
END:VEVENT
END:VCALENDAR