BEGIN:VCALENDAR
VERSION:2.0
PRODID:-//92.5 the River - ECPv5.16.3.1//NONSGML v1.0//EN
CALSCALE:GREGORIAN
METHOD:PUBLISH
X-WR-CALNAME:92.5 the River
X-ORIGINAL-URL:https://theriverboston.com
X-WR-CALDESC:Events for 92.5 the River
BEGIN:VTIMEZONE
TZID:America/New_York
BEGIN:DAYLIGHT
TZOFFSETFROM:-0500
TZOFFSETTO:-0400
TZNAME:EDT
DTSTART:20240310T070000
END:DAYLIGHT
BEGIN:STANDARD
TZOFFSETFROM:-0400
TZOFFSETTO:-0500
TZNAME:EST
DTSTART:20241103T060000
END:STANDARD
END:VTIMEZONE
BEGIN:VEVENT
DTSTART;TZID=America/New_York:20240408T170000
DTEND;TZID=America/New_York:20240408T210000
DTSTAMP:20260422T080626
CREATED:20240201T151057Z
LAST-MODIFIED:20240201T151057Z
UID:222609-1712595600-1712610000@theriverboston.com
SUMMARY:The 8th Annual Steel Chef Challenge
DESCRIPTION:  \nCalling all professional chefs in NH! Steel Chef Competitor applications are now open! Want to test your skills against the best chefs in the Granite State? Apply today for a chance to be a chef competitor at our 8th Annual Steel Chef Challenge on Monday\, April 8. Submit your application by February 16! Visit: https://nhwines.com/steel-chef-application/ \nAnd whil tickets for this year’s Steel Chef Challenge are now SOLD OUT. To be added to our wait-list\, please contact Aubrey Goodale at agoodale@nhfoodbank.org or 603-669-9725 ext 1244
URL:https://theriverboston.com/events/the-8th-annual-steel-chef-challenge/
LOCATION:DoubleTree by Hilton Manchester Downtown\, 700 Elm Street\, Manchester\, NH\, 03101\, United States
END:VEVENT
END:VCALENDAR