BEGIN:VCALENDAR
VERSION:2.0
PRODID:-//92.5 the River - ECPv5.16.3.1//NONSGML v1.0//EN
CALSCALE:GREGORIAN
METHOD:PUBLISH
X-WR-CALNAME:92.5 the River
X-ORIGINAL-URL:https://theriverboston.com
X-WR-CALDESC:Events for 92.5 the River
BEGIN:VTIMEZONE
TZID:America/New_York
BEGIN:DAYLIGHT
TZOFFSETFROM:-0500
TZOFFSETTO:-0400
TZNAME:EDT
DTSTART:20240310T070000
END:DAYLIGHT
BEGIN:STANDARD
TZOFFSETFROM:-0400
TZOFFSETTO:-0500
TZNAME:EST
DTSTART:20241103T060000
END:STANDARD
END:VTIMEZONE
BEGIN:VEVENT
DTSTART;TZID=America/New_York:20240411T190000
DTEND;TZID=America/New_York:20240411T190000
DTSTAMP:20260422T034019
CREATED:20240319T165657Z
LAST-MODIFIED:20240319T165657Z
UID:223202-1712862000-1712862000@theriverboston.com
SUMMARY:Pat Metheny at The Music Hall in Portsmouth
DESCRIPTION:BUY TICKETS HERE\nPAT METHENY DREAM BOX TOUR\nPat Metheny says of the 2023 album “Dream Box”…[Dream Box] is an unusual recording for me; a compilation of solo tracks recorded across a few years that I discovered while listening on tour. During the extensive touring period that made up most of 2022 for me\, I found a forgotten folder on my drive. I often make quick recordings of things; a new tune\, a new (or old) guitar\, a standard tune\, or just to try something out. I have a spot in my laptop where I stash these things. And truthfully; often never to be heard again.” \nStarting on trumpet at the age of 8\, Metheny switched to guitar at age 12. By the age of 15\, he was working regularly with the best jazz musicians in Kansas City. Over the course of his three-year stint with vibraphone great Gary Burton\, the young Missouri native already displayed his soon-to-become trademarked playing style\, which blended the loose and flexible articulation customarily reserved for horn players with an advanced rhythmic and harmonic sensibility. With the release of his first album\, Bright Size Life (1975)\, he reinvented the traditional “jazz guitar” sound for a new generation of players. Throughout his career\, Pat Metheny has continued to redefine the genre by utilizing new technology and constantly working to evolve the improvisational and sonic potential of his instrument. \nFIND MORE SHOWS AT THE HISTORIC MUSIC HALL IN PORTSMOUTH \n  \n 
URL:https://theriverboston.com/events/pat-metheny-at-the-music-hall-in-portsmouth/
LOCATION:The Music Hall\, 28 Chestnut Street\, Portsmouth\, NH\, 03801\, United States
END:VEVENT
END:VCALENDAR