BEGIN:VCALENDAR
VERSION:2.0
PRODID:-//92.5 the River - ECPv5.16.3.1//NONSGML v1.0//EN
CALSCALE:GREGORIAN
METHOD:PUBLISH
X-WR-CALNAME:92.5 the River
X-ORIGINAL-URL:https://theriverboston.com
X-WR-CALDESC:Events for 92.5 the River
BEGIN:VTIMEZONE
TZID:America/New_York
BEGIN:DAYLIGHT
TZOFFSETFROM:-0500
TZOFFSETTO:-0400
TZNAME:EDT
DTSTART:20240310T070000
END:DAYLIGHT
BEGIN:STANDARD
TZOFFSETFROM:-0400
TZOFFSETTO:-0500
TZNAME:EST
DTSTART:20241103T060000
END:STANDARD
END:VTIMEZONE
BEGIN:VEVENT
DTSTART;TZID=America/New_York:20240426T200000
DTEND;TZID=America/New_York:20240426T200000
DTSTAMP:20260421T023502
CREATED:20231023T182925Z
LAST-MODIFIED:20231023T183230Z
UID:221704-1714161600-1714161600@theriverboston.com
SUMMARY:Jim Breuer at the Shubert Theatre in Boston
DESCRIPTION:BUY TICKETS HERE\nJIM BREUER – THE SURVIVAL WITH LAUGHTER TOUR – SPECIAL GUEST JOE SIB\nGrab a bag of Funyuns and get ready for the freewheeling\, New York bred comic storyteller JIM BREUER – who made the list of Comedy Central’s “100 Greatest Standups of All Time”. Once folks see him live\, they’re hooked. It’s becoming a family thing\, with parents even bringing young teens to see the family man and father of three daughters\, all providing genius “dad” material for his sets. Don’t miss his new 2024 Survival With Laughter Tour stop in Boston! \nHelpful links: \n\nRead More about the show\nJim Breuer’s Website\nMore Shows at the Boch Center!
URL:https://theriverboston.com/events/jim-breuer-at-the-shubert-theatre-in-boston/
LOCATION:Boch Center Shubert Theatre\, 265 Tremont Street\, Boston\, MA\, 02116\, United States
END:VEVENT
END:VCALENDAR