BEGIN:VCALENDAR
VERSION:2.0
PRODID:-//92.5 the River - ECPv5.16.3.1//NONSGML v1.0//EN
CALSCALE:GREGORIAN
METHOD:PUBLISH
X-WR-CALNAME:92.5 the River
X-ORIGINAL-URL:https://theriverboston.com
X-WR-CALDESC:Events for 92.5 the River
BEGIN:VTIMEZONE
TZID:America/New_York
BEGIN:DAYLIGHT
TZOFFSETFROM:-0500
TZOFFSETTO:-0400
TZNAME:EDT
DTSTART:20240310T070000
END:DAYLIGHT
BEGIN:STANDARD
TZOFFSETFROM:-0400
TZOFFSETTO:-0500
TZNAME:EST
DTSTART:20241103T060000
END:STANDARD
END:VTIMEZONE
BEGIN:VEVENT
DTSTART;TZID=America/New_York:20240502T200000
DTEND;TZID=America/New_York:20240502T200000
DTSTAMP:20260420T183115
CREATED:20240304T190104Z
LAST-MODIFIED:20240304T190104Z
UID:222968-1714680000-1714680000@theriverboston.com
SUMMARY:The Decemberists @ Roadrunner
DESCRIPTION:The Decemberists have released a new song\, “Burial Ground\,” and announced a tour along with it! The alt-folk icons return to Boston’s Roadrunner this May\, find your tickets today.
URL:https://theriverboston.com/events/the-decemberists-roadrunner-2024/
LOCATION:Roadrunner\, 89 Guest Street\, Boston\, MA\, 02135\, United States
END:VEVENT
END:VCALENDAR