BEGIN:VCALENDAR
VERSION:2.0
PRODID:-//92.5 the River - ECPv5.16.3.1//NONSGML v1.0//EN
CALSCALE:GREGORIAN
METHOD:PUBLISH
X-WR-CALNAME:92.5 the River
X-ORIGINAL-URL:https://theriverboston.com
X-WR-CALDESC:Events for 92.5 the River
BEGIN:VTIMEZONE
TZID:America/New_York
BEGIN:DAYLIGHT
TZOFFSETFROM:-0500
TZOFFSETTO:-0400
TZNAME:EDT
DTSTART:20240310T070000
END:DAYLIGHT
BEGIN:STANDARD
TZOFFSETFROM:-0400
TZOFFSETTO:-0500
TZNAME:EST
DTSTART:20241103T060000
END:STANDARD
END:VTIMEZONE
BEGIN:VEVENT
DTSTART;TZID=America/New_York:20240506T193000
DTEND;TZID=America/New_York:20240506T213000
DTSTAMP:20260420T123315
CREATED:20240404T161402Z
LAST-MODIFIED:20240404T161402Z
UID:223371-1715023800-1715031000@theriverboston.com
SUMMARY:Lyle Lovett & Lisa Loeb at Nashua Center for the Arts
DESCRIPTION:BUY TICKETS HERE\nA singer\, composer and actor\, Lyle Lovett has broadened the definition of American music in a career that spans 14 albums. Coupled with his gift for storytelling\, the Texas-based musician fuses elements of country\, swing\, jazz\, folk\, gospel and blues in a convention-defying manner that breaks down barriers. \nDallas native Lisa Loeb is a GRAMMY™ Award-winning singer songwriter\, touring musician and philanthropist who started her career with the platinum-selling hit song “Stay (I Missed You)” from the film Reality Bites. A trailblazing independent artist\, Lisa was the first pop musician to have a Number 1 single while not signed to a recording contract. She followed that remarkable feat with several hit singles and six albums\, two of which were certified gold. \nFIND MORE EVENTS AT NASHUA CENTER FOR THE ARTS
URL:https://theriverboston.com/events/lyle-lovett-lisa-loeb-at-nashua-center-for-the-arts/
LOCATION:Nashua Center for the Arts\, 201 Main Street\, Nashua\, NH\, 03060\, United States
ORGANIZER;CN="Spectacle%20Live":MAILTO:info@spectaclemanagement.net
END:VEVENT
BEGIN:VEVENT
DTSTART;TZID=America/New_York:20240506T200000
DTEND;TZID=America/New_York:20240506T200000
DTSTAMP:20260420T123315
CREATED:20240315T182738Z
LAST-MODIFIED:20240315T183928Z
UID:223096-1715025600-1715025600@theriverboston.com
SUMMARY:Norah Jones @ MGM Music Hall
DESCRIPTION:Singer-songwriter and pianist Norah Jones released her ninth studio album\, Visions\, on March 8. Her tour of the same name comes through Boston’s MGM Music Hall at Fenway on May 6th. Tickets and info here!
URL:https://theriverboston.com/events/norah-jones-mgm-music-hall/
LOCATION:MGM Music Hall at Fenway\, 2 Lansdowne Street\, Boston\, MA\, 02215\, United States
END:VEVENT
END:VCALENDAR