BEGIN:VCALENDAR
VERSION:2.0
PRODID:-//92.5 the River - ECPv5.16.3.1//NONSGML v1.0//EN
CALSCALE:GREGORIAN
METHOD:PUBLISH
X-WR-CALNAME:92.5 the River
X-ORIGINAL-URL:https://theriverboston.com
X-WR-CALDESC:Events for 92.5 the River
BEGIN:VTIMEZONE
TZID:America/New_York
BEGIN:DAYLIGHT
TZOFFSETFROM:-0500
TZOFFSETTO:-0400
TZNAME:EDT
DTSTART:20240310T070000
END:DAYLIGHT
BEGIN:STANDARD
TZOFFSETFROM:-0400
TZOFFSETTO:-0500
TZNAME:EST
DTSTART:20241103T060000
END:STANDARD
END:VTIMEZONE
BEGIN:VEVENT
DTSTART;VALUE=DATE:20240510
DTEND;VALUE=DATE:20240513
DTSTAMP:20260420T032501
CREATED:20240419T132330Z
LAST-MODIFIED:20240419T132330Z
UID:223480-1715299200-1715558399@theriverboston.com
SUMMARY:Swing into Spring 2024 with Discover Gloucester!
DESCRIPTION: VISIT  GLOUCESTER MA DURING THEIR SWING INTO SPRING PROMOTION! \nMAY 10TH THROUGH THE 12TH\, MOTHER’S DAY WEEKEND! \nWITH THE SWING INTO SPRING PASSPORT YOU’LL ENJOY SPECIALS ON OVERNIGHT STAYS\, WHALE WATCHING\, BRUNCH\, DINING AND SHOPPING! \nPICK UP A SWING INTO SPRING PASSPORT TODAY AT https://DISCOVERGLOUCESTER.COM  ! \nWHEN YOU VISIT FOUR PARTICIPATING BUSINESSES YOU CAN ENTER TO WIN A GRAND PRIZE. \nHEAD TO DISCOVER GLOUCESTER’S WEBSITE BY CLICKING HERE AND GET YOUR SWING INTO SPRING PASSPORT! \n  \n  \n 
URL:https://theriverboston.com/events/swing-into-spring-2024-with-discover-gloucester/
END:VEVENT
BEGIN:VEVENT
DTSTART;TZID=America/New_York:20240512T100000
DTEND;TZID=America/New_York:20240512T120000
DTSTAMP:20260420T032501
CREATED:20240321T175536Z
LAST-MODIFIED:20240321T175536Z
UID:223237-1715508000-1715515200@theriverboston.com
SUMMARY:Malden River Clean Up
DESCRIPTION:Our Friends at Idle Hands Craft Ales are partnering with the Malden River Clean Up! \nMeet at the Taproom\, 89 Commercial St.\, Malden at 10am on Sunday\, May 12th. Take a 5 minute walk over to the banks of the Malden River for a clean up!\nAfter the cleanup\, head back to the Taproom where all volunteers 21+ receive a complimentary half pour of beer!\nRegistration is recommended but not required and is open to all ages. You must be 21+ to enjoy beer in the Taproom after the cleanup. \nPlease bring your own water bottle\,sun block and work gloves.  It is recommended that you wear sturdy boots\, long pants\, long sleeves and sunglasses.\nCleanup will last approximately 2 hours. \nhttps://www.idlehandscraftales.com/events/mothers-day-for-mother-earth-malden-river-cleanup-4rwxy
URL:https://theriverboston.com/events/malden-river-clean-up/
LOCATION:idle hands craft ales\, 89 Commercial St.\, Malden\, MA\, United States
END:VEVENT
BEGIN:VEVENT
DTSTART;TZID=America/New_York:20240512T140000
DTEND;TZID=America/New_York:20240512T140000
DTSTAMP:20260420T032501
CREATED:20240327T210640Z
LAST-MODIFIED:20240327T210640Z
UID:223303-1715522400-1715522400@theriverboston.com
SUMMARY:Closing Night of Beautiful: The Carole King Musical at the Palace
DESCRIPTION:BUY TICKETS HERE\nBEAUTIFUL: THE CAROLE KING MUSICAL\nBefore she was hitmaker Carole King\, she was Carole Klein\, a spunky\, young songwriter from Brooklyn with a unique voice. From the chart-topping hits she wrote for the biggest acts in music to her own life-changing\, trailblazing success with Tapestry\, Beautiful: The Carole King Musical takes you back to where it all began — and takes you on the ride of a lifetime. Buy Tickets Book by Douglas McGrath Words and Music by Gerry Goffin & Carole King Barry Mann & Cynthia Weil Music by Arrangement with Sony/ATV Music Publishing Orchestrations\, Vocal and Incidental Music Arrangements Steve Sidwell Additional Music Arrangements by Jason Howland Beautiful: The Carole King Musical Is presented through special arrangement with Music Theatre International (MTI). All authorized performance materials are also supplied by MTI. \n \nFIND MORE EVENTS AT THE HISTORIC PALACE THEATRE \nFull List of Showtimes\n\nFriday April 19\, 2024 7:30 PM\nSaturday April 20\, 2024 2:00 PM\nSaturday April 20\, 2024 7:30 PM\nSunday April 21\, 2024 2:00 PM\nFriday April 26\, 2024 7:30 PM\nSaturday April 27\, 2024 2:00 PM\nSaturday April 27\, 2024 7:30 PM\nSunday April 28\, 2024 2:00 PM\nFriday May 3\, 2024 7:30 PM\nSaturday May 4\, 2024 2:00 PM\nSaturday May 4\, 2024 7:30 PM\nSunday May 5\, 2024 2:00 PM\nThursday May 9\, 2024 7:30 PM\nFriday May 10\, 2024 7:30 PM\nSaturday May 11\, 2024 2:00 PM\nSaturday May 11\, 2024 7:30 PM\nSunday May 12\, 2024 2:00 PM
URL:https://theriverboston.com/events/closing-night-of-beautiful-the-carole-king-musical-at-the-palace/
LOCATION:Palace Theatre\, 80 Hanover Street\, Manchester\, NH\, 03101\, United States
END:VEVENT
BEGIN:VEVENT
DTSTART;TZID=America/New_York:20240512T190000
DTEND;TZID=America/New_York:20240512T190000
DTSTAMP:20260420T032501
CREATED:20240417T203033Z
LAST-MODIFIED:20240417T203154Z
UID:223474-1715540400-1715540400@theriverboston.com
SUMMARY:Rickie Lee Jones at Tupelo Music Hall
DESCRIPTION:BUY TICKETS HERE \nRICKIE LEE JONES\nRickie Lee Jones is an American musician\, storyteller and two-time Grammy winner who has been inspiring pop culture for decades\, beginning with her star-making self-titled debut\, followed by the seminal Pirates. Named the “premiere song-stylist and songwriter of her generation” by The New Yorker\, and “The Duchess of Coolsville” by Time magazine\, Jones released her Grammy-nominated album Pieces of Treasure in 2023\, a reunion with Russ Titelman\, who produced her first two records. Jones’ celebrated memoir Last Chance Texaco was named Book of the Year by MOJO and a Best Book of the Year at Pitchfork and NPR. The Independent writes\, “There has always been something defiant about Rickie Lee Jones . . . a voice from a dream\, elusive yet familiar\, transcendent\, a messenger from another place.” \nCLICK TO SEE MORE SHOWS AT TUPELO MUSIC HALL
URL:https://theriverboston.com/events/rickie-lee-jones-at-tupelo-music-hall/
LOCATION:Tupelo Music Hall\, 10 A Street\, Derry\, NH\, 03038\, United States
END:VEVENT
END:VCALENDAR