BEGIN:VCALENDAR
VERSION:2.0
PRODID:-//92.5 the River - ECPv5.16.3.1//NONSGML v1.0//EN
CALSCALE:GREGORIAN
METHOD:PUBLISH
X-WR-CALNAME:92.5 the River
X-ORIGINAL-URL:https://theriverboston.com
X-WR-CALDESC:Events for 92.5 the River
BEGIN:VTIMEZONE
TZID:America/New_York
BEGIN:DAYLIGHT
TZOFFSETFROM:-0500
TZOFFSETTO:-0400
TZNAME:EDT
DTSTART:20240310T070000
END:DAYLIGHT
BEGIN:STANDARD
TZOFFSETFROM:-0400
TZOFFSETTO:-0500
TZNAME:EST
DTSTART:20241103T060000
END:STANDARD
END:VTIMEZONE
BEGIN:VEVENT
DTSTART;VALUE=DATE:20240524
DTEND;VALUE=DATE:20240527
DTSTAMP:20260420T050155
CREATED:20240214T211046Z
LAST-MODIFIED:20240214T211046Z
UID:222735-1716508800-1716767999@theriverboston.com
SUMMARY:Boston Calling Music Festival
DESCRIPTION:  \nBoston Calling is back with a bill chalk-full of River artists! Tickets are available now for the 3-day music event\, don’t miss out!
URL:https://theriverboston.com/events/boston-calling-music-festival-4/
LOCATION:Harvard Athletic Complex\, Allston\, Massachusetts\, United States
END:VEVENT
BEGIN:VEVENT
DTSTART;VALUE=DATE:20240524
DTEND;VALUE=DATE:20240527
DTSTAMP:20260420T050155
CREATED:20240524T144156Z
LAST-MODIFIED:20240524T144716Z
UID:223903-1716508800-1716767999@theriverboston.com
SUMMARY:Opening Weekend at SurfSide!
DESCRIPTION:Opening weekend at SurfSide Deck is here! Join us for a three-night party with live music all weekend long: \nFriday\, May 24: Friday Night Live ft. Back to the 80’s Band \nSaturday\, May 25: Boogie Nights Disco Party ft. DJ Koko P \nSunday\, May 26: Reggae Beach Bash ft. Duppy Conquerors – The Spirit of Bob Marley \nGet in on the fun!
URL:https://theriverboston.com/events/opening-surfside/
LOCATION:Surfside\, 25 Broadway\, Salisbury\, MA\, 01952\, United States
END:VEVENT
BEGIN:VEVENT
DTSTART;TZID=America/New_York:20240526T180000
DTEND;TZID=America/New_York:20240526T220000
DTSTAMP:20260420T050155
CREATED:20240524T142246Z
LAST-MODIFIED:20240524T142246Z
UID:223901-1716746400-1716760800@theriverboston.com
SUMMARY:Reggae Beach Bash ft. Bob Marly Tribute Duppy Conquerors at Surfside
DESCRIPTION:Reggae Beach Bash ft. Duppy Conquerors – The Spirit of Bob Marley\nSpecial Guest JahRiffe & Jah-N-I Roots Band 🎤\nHosted by DJ Green Lion Crew 🦁\n🎟️General Admission/Standing Room Only\n🎟️ Advanced Tickets Online – $20 | Day of Show – $25.\nThis event is for 21+ ONLY 🍹 NO BACKPACKS | NO RE-ENTRY 🚫 \nAbout Duppy Conquerors\nThe quintessential Bob Marley tribute band – the Duppy Conquerors – is a rich collection of high-caliber musicians playing in tribute to the music of Bob Marley. Nominated for a Boston Music Award\, this 10-piece ensemble of veteran musicians embodies a soulful authenticity that honors the artist and his timeless collection. With nearly 80% of Marley’s repertoire under their belts\, the Duppy Conquerors are equipped to provide hours of entertainment and positive vibrations. \n“Bob Marley was about Spirit. His music touched many souls. Seeing the Duppy Conquerors capture that spirit and make it live anew is great. They play his songs with a beautiful conviction and love.” ~ Steve Morse\, Boston Globe” \nImportant Event Info:\n🕕 6:00 PM Doors Open with DJ Green Lion 🦁\n🕖 7:00-7:45 PM Opener: JahRiffe & Jah-N-I Roots Band 🎤\n🕗 8:00-9:30 PM Duppy Conquerors 🎶\n🕘 9:30-10:00 PM DJ Green Lion 🎧
URL:https://theriverboston.com/events/reggae-beach-bash-ft-bob-marly-tribute-duppy-conquerors-at-surfside/
LOCATION:Surfside\, 25 Broadway\, Salisbury\, MA\, 01952\, United States
END:VEVENT
END:VCALENDAR