BEGIN:VCALENDAR
VERSION:2.0
PRODID:-//92.5 the River - ECPv5.16.3.1//NONSGML v1.0//EN
CALSCALE:GREGORIAN
METHOD:PUBLISH
X-WR-CALNAME:92.5 the River
X-ORIGINAL-URL:https://theriverboston.com
X-WR-CALDESC:Events for 92.5 the River
BEGIN:VTIMEZONE
TZID:America/New_York
BEGIN:DAYLIGHT
TZOFFSETFROM:-0500
TZOFFSETTO:-0400
TZNAME:EDT
DTSTART:20240310T070000
END:DAYLIGHT
BEGIN:STANDARD
TZOFFSETFROM:-0400
TZOFFSETTO:-0500
TZNAME:EST
DTSTART:20241103T060000
END:STANDARD
END:VTIMEZONE
BEGIN:VEVENT
DTSTART;TZID=America/New_York:20240611T183000
DTEND;TZID=America/New_York:20240611T183000
DTSTAMP:20260420T173006
CREATED:20240509T201259Z
LAST-MODIFIED:20240509T201259Z
UID:223708-1718130600-1718130600@theriverboston.com
SUMMARY:Pixies and Modest Mouse @ BankNH Pavilion
DESCRIPTION:Indie rock titans Pixies and Modest Mouse announced their 2024 co-headline tour across North America with special guest Cat Power. The 2024 tour follows the highly successful sold-out 2023 run featuring all three acts! \nTickets and show info here.
URL:https://theriverboston.com/events/pixies-and-modest-mouse-banknh-pavilion/
LOCATION:BankNH Pavilion\, 72 Meadowbrook Ln\, Gilford\, NH\, 03249\, United States
END:VEVENT
BEGIN:VEVENT
DTSTART;TZID=America/New_York:20240611T193000
DTEND;TZID=America/New_York:20240611T193000
DTSTAMP:20260420T173006
CREATED:20240606T201007Z
LAST-MODIFIED:20240606T201007Z
UID:224072-1718134200-1718134200@theriverboston.com
SUMMARY:Keb' Mo' at Nashua Center for the Arts
DESCRIPTION:Buy Tickets Here \nKEB’ MO’ W/ OPENER PHILLIP-MICHAEL SCALES \n“I believe that music has the power to heal\,” Keb’ explains\, “and I wanted this album to make people feel good. I wanted it to bring joy and make them maybe think about where they come from and the journeys that brought them to where they are.” \nFor Keb’ Mo’\, that journey began nearly half a century ago\, when he landed his first major gig in Papa John Creach’s band at the age of 21. Over the course of the next 20 years\, Keb’ would go on to establish himself as a respected guitarist\, songwriter\, and arranger\, and though he recorded a one-off album in 1980 under his birth name\, Kevin Moore\, it wasn’t until 1994 that he would introduce the world to Keb’ Mo’ with the release of his widely acclaimed self-titled debut. Critics were quick to take note of Keb’s modern\, genre-bending take on old school sounds\, and two years later\, he garnered his first GRAMMY Award for Best Contemporary Blues Album with Just Like You. \n\nFind more concerts coming up at Nashua Center for the Arts\nNot a Spectacle Live Member? Join today to gain presale access and more!
URL:https://theriverboston.com/events/keb-mo-at-nashua-center-for-the-arts/
LOCATION:Nashua Center for the Arts\, 201 Main Street\, Nashua\, NH\, 03060\, United States
ORGANIZER;CN="Spectacle%20Live":MAILTO:info@spectaclemanagement.net
END:VEVENT
END:VCALENDAR