BEGIN:VCALENDAR
VERSION:2.0
PRODID:-//92.5 the River - ECPv5.16.3.1//NONSGML v1.0//EN
CALSCALE:GREGORIAN
METHOD:PUBLISH
X-WR-CALNAME:92.5 the River
X-ORIGINAL-URL:https://theriverboston.com
X-WR-CALDESC:Events for 92.5 the River
BEGIN:VTIMEZONE
TZID:America/New_York
BEGIN:DAYLIGHT
TZOFFSETFROM:-0500
TZOFFSETTO:-0400
TZNAME:EDT
DTSTART:20240310T070000
END:DAYLIGHT
BEGIN:STANDARD
TZOFFSETFROM:-0400
TZOFFSETTO:-0500
TZNAME:EST
DTSTART:20241103T060000
END:STANDARD
END:VTIMEZONE
BEGIN:VEVENT
DTSTART;TZID=America/New_York:20240614T190000
DTEND;TZID=America/New_York:20240614T213000
DTSTAMP:20260420T123316
CREATED:20240509T182356Z
LAST-MODIFIED:20240509T182356Z
UID:223698-1718391600-1718400600@theriverboston.com
SUMMARY:Opening Night of the Prescott Park Arts Festival 50th Anniversary Season featuring THE LONE BELLOW
DESCRIPTION:The Lone Bellow burst onto the scene with their self-titled debut in 2013. The Nashville-based trio (Zach Williams\, Brian Elmquist\, Kanene Pipkin) quickly became known for their transcendent harmonies\, serious musicianship and raucous live performance — creating what NPR calls\, ‘earnest and magnetic folk-pop built to shake the rafters. For The Lone Bellow\, the triumph of completing their first self-produced album: Love Songs for Losers\, marks the start of a thrilling new chapter in the band’s journey.
URL:https://theriverboston.com/events/prescott-park-lone-bellow/
LOCATION:Prescott Park\, 105 Marcy Street\, Portsmouth\, NH\, 03801\, United States
END:VEVENT
BEGIN:VEVENT
DTSTART;TZID=America/New_York:20240614T200000
DTEND;TZID=America/New_York:20240614T230000
DTSTAMP:20260420T123316
CREATED:20220118T171908Z
LAST-MODIFIED:20240509T190006Z
UID:215555-1718395200-1718406000@theriverboston.com
SUMMARY:Trombone Shorty @ Leader Bank Pavilion
DESCRIPTION:Trombone Shorty & Orleans Avenue’s music respects New Orleans music traditions while pushing the boundaries of those traditions\, adding pop\, rock and hip-hop influences\, and they are coming to Boston! \nFor more information on the show\, click here.
URL:https://theriverboston.com/events/trombone-shorty-leader-bank-pavilion/
LOCATION:Leader Bank Pavilion\, 290 Northern Ave\, Boston\, MA\, 02210\, United States
END:VEVENT
END:VCALENDAR