BEGIN:VCALENDAR
VERSION:2.0
PRODID:-//92.5 the River - ECPv5.16.3.1//NONSGML v1.0//EN
CALSCALE:GREGORIAN
METHOD:PUBLISH
X-WR-CALNAME:92.5 the River
X-ORIGINAL-URL:https://theriverboston.com
X-WR-CALDESC:Events for 92.5 the River
BEGIN:VTIMEZONE
TZID:America/New_York
BEGIN:DAYLIGHT
TZOFFSETFROM:-0500
TZOFFSETTO:-0400
TZNAME:EDT
DTSTART:20240310T070000
END:DAYLIGHT
BEGIN:STANDARD
TZOFFSETFROM:-0400
TZOFFSETTO:-0500
TZNAME:EST
DTSTART:20241103T060000
END:STANDARD
END:VTIMEZONE
BEGIN:VEVENT
DTSTART;VALUE=DATE:20240716
DTEND;VALUE=DATE:20240718
DTSTAMP:20260420T002644
CREATED:20240610T192239Z
LAST-MODIFIED:20240610T192239Z
UID:224121-1721088000-1721260799@theriverboston.com
SUMMARY:Dave Matthews Band @ BankNH Pavilion
DESCRIPTION:Dave Matthews Band brings another season power-packed with iconic hits and unprecedented jams! The illustrious rock band is known for their onstage improvisations and segues\, as well as phenomenal hits like “Crash Into Me” and “Ants Marching.” This summer\, the Grammy Award-winning band will travel across over 40 major cities\, including two stops in Gilford\, NH! \nMore information and tickets here
URL:https://theriverboston.com/events/dave-matthews-band-banknh-pavilion/
LOCATION:Bank Of New Hampshire Pavilion\, 72 Meadowbrook Ln\, Gilford\, NH\, 03249\, United States
END:VEVENT
BEGIN:VEVENT
DTSTART;TZID=America/New_York:20240717T174500
DTEND;TZID=America/New_York:20240717T174500
DTSTAMP:20260420T002644
CREATED:20240610T191130Z
LAST-MODIFIED:20240610T191130Z
UID:224120-1721238300-1721238300@theriverboston.com
SUMMARY:Totally Tubular Festival @ MGM Music Hall
DESCRIPTION:Travel back to a decade of musical experimentation and innovation\, as a host of pioneering 1980s new-wave and synth pop artists join together for the Totally Tubular Festival tour! Featuring the leading acts of a movement which set the stage for so many of today’s artists\, witness live performances from Thomas Dolby\, Modern English\, Men Without Hats\, Tom Bailey of the Thompson Twins and many more! \nMore information and tickets here
URL:https://theriverboston.com/events/totally-tubular-festival-mgm-music-hall/
LOCATION:MGM Music Hall at Fenway\, 2 Lansdowne Street\, Boston\, MA\, 02215\, United States
END:VEVENT
BEGIN:VEVENT
DTSTART;TZID=America/New_York:20240717T190000
DTEND;TZID=America/New_York:20240717T213000
DTSTAMP:20260420T002644
CREATED:20240506T141925Z
LAST-MODIFIED:20240506T142013Z
UID:223661-1721242800-1721251800@theriverboston.com
SUMMARY:Patty Griffin @ Prescott Park Arts Festival
DESCRIPTION:WEDNESDAY\, JULY 17 @ 7:00 PM\nAN EVENING WITH PATTY GRIFFIN AT THE PRESCOTT PARK ARTS FESTIVAL\nPRESENTED BY THE RIVER HOUSE RESTAURANT \nPATTY GRIFFIN is among the most consequential singer-songwriters of her generation\, a quintessentially American artist whose wide-ranging canon incisively explores the intimate moments and universal emotions that bind us together. Over the course of two decades\, the GRAMMY® Award winner – and 7x nominee – has crafted a remarkable body of work \nBorn in Maine but long based in Austin\, TX\, Griffin made an immediate impact with her 1996 debut\, LIVING WITH GHOSTS\, and its 1998 follow-up\, FLAMING RED – both now considered seminal works of modern folk and Americana. \nRESERVATIONS WILL OPEN: \nTHURSDAY\, MAY 23 AT 10 AM TO SEASON PASSHOLDERS\n&\nTUESDAY\, MAY 28 AT 10 AM TO THE GENERAL PUBLIC \nPLEASE NOTE: There will be no opener for this concert. So plan for the evening to kick-off right at 7pm!
URL:https://theriverboston.com/events/patty-griffin-prescott-park/
LOCATION:Prescott Park\, 105 Marcy Street\, Portsmouth\, NH\, 03801\, United States
END:VEVENT
BEGIN:VEVENT
DTSTART;TZID=America/New_York:20240717T200000
DTEND;TZID=America/New_York:20240717T200000
DTSTAMP:20260420T002644
CREATED:20231012T183949Z
LAST-MODIFIED:20231101T201534Z
UID:221644-1721246400-1721246400@theriverboston.com
SUMMARY:Zach Bryan at Gillette Stadium
DESCRIPTION:A second show has been added to Zach Bryan’s The Quittin Time Tour! Check out ticket info here!
URL:https://theriverboston.com/events/zach-bryan-at-gillette-stadium/
LOCATION:Gillette Stadium\, 1 Patriot Pl\, Foxborough\, MA\, 02035\, United States
END:VEVENT
END:VCALENDAR