BEGIN:VCALENDAR
VERSION:2.0
PRODID:-//92.5 the River - ECPv5.16.3.1//NONSGML v1.0//EN
CALSCALE:GREGORIAN
METHOD:PUBLISH
X-WR-CALNAME:92.5 the River
X-ORIGINAL-URL:https://theriverboston.com
X-WR-CALDESC:Events for 92.5 the River
BEGIN:VTIMEZONE
TZID:America/New_York
BEGIN:DAYLIGHT
TZOFFSETFROM:-0500
TZOFFSETTO:-0400
TZNAME:EDT
DTSTART:20240310T070000
END:DAYLIGHT
BEGIN:STANDARD
TZOFFSETFROM:-0400
TZOFFSETTO:-0500
TZNAME:EST
DTSTART:20241103T060000
END:STANDARD
END:VTIMEZONE
BEGIN:VEVENT
DTSTART;TZID=America/New_York:20240724T190000
DTEND;TZID=America/New_York:20240724T190000
DTSTAMP:20260420T015611
CREATED:20240618T144510Z
LAST-MODIFIED:20240719T165832Z
UID:224191-1721847600-1721847600@theriverboston.com
SUMMARY:G. Love with Brett Dennn and Mihali at Casino Ballroom
DESCRIPTION:Buy Tickets Here \nG. LOVE & SPECIAL SAUCE WITH BRETT DENNEN AND MIHALI\nDoors: 6 PM | 18+\nAbout G Love\nBorn Garrett Dutton in Philadelphia\, PA\, G. Love grew up equally enthralled with folk\, blues\, and rap\, devouring everything from Lead Belly and Run D.M.C. to John Hammond and the Beastie Boys. After migrating to Boston\, he and his band\, Special Sauce\, broke out in 1994 with their Gold-selling self-titled debut\, which earned widespread critical acclaim for its bold vision and adventurous production. Over the next twenty-five years\, G. Love would go on to release seven more similarly lauded studio studios albums with Special Sauce (plus four solo albums on his own)\, solidifying his place in music history as a genre-bending pioneer with a sound The New York Times described as “a new and urgent hybrid” and NPR called a “musical melting pot.” G. Love’s magnetic stage presence\, meanwhile\, made him a fixture on festival lineups from Bonnaroo to Lollapalooza\, and his relentless appetite for tour and collaboration landed him on the road and in the studio with artists as diverse as Lucinda Williams\, Dave Matthews\, The Avett Brothers\, Jack Johnson\, and DJ Logic. \nAbout Brett Dennen\nBrett Dennen\, a Northern California native\, has been captivating audiences for nearly two decades with his distinct blend of folk-pop melodies\, thought-provoking lyrics\, and soulful vocal prowess. His signature red hair and lanky frame are as unmistakable as the music that has earned him legions of dedicated fans and critical acclaim. \nDennen’s musical journey began in earnest at Camp Jack Hazard\, a summer camp where he first discovered his love for singing and songwriting. Drawing inspiration from the likes of Paul Simon\, Bob Dylan\, and Joni Mitchell\, Dennen crafted his own unique style that reflects his passion for storytelling and social commentary. \nDennen’s debut album\, Brett Dennen (2004)\, introduced the world to his undeniable talent and served as a springboard for a career that has since seen the release of several successful albums including So Much More (2006)\, Hope for the Hopeless (2008)\, Loverboy (2011)\, Smoke and Mirrors (2013)\, Por Favor (2016)\, and See The World (2021). Each record has showcased his evolution as an artist\, with a growing mastery of his craft and the ability to convey complex emotions through his songwriting. \nAbout Mihali\nFor Mihali\, music behaves much like a living being. It grows\, it matures\, and it changes with a sentient consciousness and with whims of its own. The Vermont-based singer\, songwriter\, guitarist\, and co-founder of rock outfit Twiddle closely follows reggae’s evolutionary ebbs and flows\, and now funnels that enthusiasm into his latest record\, Effection [released July 22\, 2022 on Ineffable Records]. The ten-track body of work intertwines reggae spirit\, fluid soundscape architecture\, and invigorating mantras meant to be chanted aloud in a packed venue. \nFIND MORE CASINO BALLROOM SHOWS HERE
URL:https://theriverboston.com/events/g-love-with-brett-dennn-and-mihali/
LOCATION:Hampton Beach Casino Ballroom\, 169 Ocean Blvd\, Hampton\, NH\, United States
END:VEVENT
END:VCALENDAR