BEGIN:VCALENDAR
VERSION:2.0
PRODID:-//92.5 the River - ECPv5.16.3.1//NONSGML v1.0//EN
CALSCALE:GREGORIAN
METHOD:PUBLISH
X-WR-CALNAME:92.5 the River
X-ORIGINAL-URL:https://theriverboston.com
X-WR-CALDESC:Events for 92.5 the River
BEGIN:VTIMEZONE
TZID:America/New_York
BEGIN:DAYLIGHT
TZOFFSETFROM:-0500
TZOFFSETTO:-0400
TZNAME:EDT
DTSTART:20240310T070000
END:DAYLIGHT
BEGIN:STANDARD
TZOFFSETFROM:-0400
TZOFFSETTO:-0500
TZNAME:EST
DTSTART:20241103T060000
END:STANDARD
END:VTIMEZONE
BEGIN:VEVENT
DTSTART;TZID=America/New_York:20240730T193000
DTEND;TZID=America/New_York:20240731T193000
DTSTAMP:20260420T015611
CREATED:20240611T143306Z
LAST-MODIFIED:20240611T143534Z
UID:224129-1722367800-1722454200@theriverboston.com
SUMMARY:Billy Strings @ DCU Center
DESCRIPTION:GRAMMY Award-winning singer\, songwriter and musician Billy Strings continues his headline tour through this summer including back-to-back nights at his ONLY Massachusetts stop at the DCU Center in Worcester on Tuesday\, July 30 and Wednesday\, July 31. \nMore information and tickets here
URL:https://theriverboston.com/events/billy-strings-dcu-center/
LOCATION:DCU Center\, 50 Foster St\, Worcester\, MA\, 01608\, United States
END:VEVENT
END:VCALENDAR