BEGIN:VCALENDAR
VERSION:2.0
PRODID:-//92.5 the River - ECPv5.16.3.1//NONSGML v1.0//EN
CALSCALE:GREGORIAN
METHOD:PUBLISH
X-WR-CALNAME:92.5 the River
X-ORIGINAL-URL:https://theriverboston.com
X-WR-CALDESC:Events for 92.5 the River
BEGIN:VTIMEZONE
TZID:America/New_York
BEGIN:DAYLIGHT
TZOFFSETFROM:-0500
TZOFFSETTO:-0400
TZNAME:EDT
DTSTART:20240310T070000
END:DAYLIGHT
BEGIN:STANDARD
TZOFFSETFROM:-0400
TZOFFSETTO:-0500
TZNAME:EST
DTSTART:20241103T060000
END:STANDARD
END:VTIMEZONE
BEGIN:VEVENT
DTSTART;TZID=America/New_York:20240805T190000
DTEND;TZID=America/New_York:20240805T213000
DTSTAMP:20260420T015612
CREATED:20240506T142125Z
LAST-MODIFIED:20240506T142144Z
UID:223663-1722884400-1722893400@theriverboston.com
SUMMARY:Allen Stone @ Prescott Park Arts Festival
DESCRIPTION:MONDAY\, AUGUST 5 @ 7:00 PM\nALLEN STONE – LIVE AT THE PRESCOTT PARK ARTS FESTIVAL\nPRESENTED BY THE RIVER HOUSE RESTAURANT\nRESERVATIONS WILL OPEN: \nTHURSDAY\, MAY 23 AT 10 AM TO SEASON PASSHOLDERS\n&\nTUESDAY\, MAY 28 AT 10 AM TO THE GENERAL PUBLIC \nAllen Stone\, a powerhouse in the realm of soul/ R&B\, has entranced audiences worldwide with his electrifying performances and soulful melodies. With a voice that effortlessly channels the raw emotion of classic soul legends\, Stone’s music transcends boundaries\, weaving together elements of funk\, gospel\, folk-rock\, and soul to create a sound uniquely his own. His captivating stage presence and heartfelt lyrics have earned him a dedicated following and critical acclaim. With a genre-blending style that seamlessly merges soul\, folk-rock\, R&B\, and funk\, Allen Stone has released five full-length albums and has been captivating audiences with his voice and boundless energy\, amassing a devoted fan base. \nThis show is a part of our Rain or Shine Series!\nAll shows in the Rain or Shine Series will happen regardless of weather.\nBeautiful Day? We’ll see you in the park.\nStormy Weather? We’ll announce the move and see you at The Music Hall.
URL:https://theriverboston.com/events/allen-stone-prescott-park/
LOCATION:Prescott Park\, 105 Marcy Street\, Portsmouth\, NH\, 03801\, United States
END:VEVENT
END:VCALENDAR