BEGIN:VCALENDAR
VERSION:2.0
PRODID:-//92.5 the River - ECPv5.16.3.1//NONSGML v1.0//EN
CALSCALE:GREGORIAN
METHOD:PUBLISH
X-WR-CALNAME:92.5 the River
X-ORIGINAL-URL:https://theriverboston.com
X-WR-CALDESC:Events for 92.5 the River
BEGIN:VTIMEZONE
TZID:America/New_York
BEGIN:DAYLIGHT
TZOFFSETFROM:-0500
TZOFFSETTO:-0400
TZNAME:EDT
DTSTART:20240310T070000
END:DAYLIGHT
BEGIN:STANDARD
TZOFFSETFROM:-0400
TZOFFSETTO:-0500
TZNAME:EST
DTSTART:20241103T060000
END:STANDARD
END:VTIMEZONE
BEGIN:VEVENT
DTSTART;TZID=America/New_York:20240808T170000
DTEND;TZID=America/New_York:20240808T190000
DTSTAMP:20260420T102601
CREATED:20240718T193814Z
LAST-MODIFIED:20240718T193814Z
UID:224669-1723136400-1723143600@theriverboston.com
SUMMARY:The River Roadies at Sea Level Oyster Bar in Newburyport
DESCRIPTION:Join the River Roadies this Thursday\, 8/08/24 from 5-7pm at Sea Level Oyster Bar overlooking the Merrimac River and Waterfront Park. The River Roadies will have the prize wheel spinning\, and you could win some great River merchandise\, t-shirts and concert tickets. And while you’re there\, enter to win a pair of tickets to the Riverfest VIP Party on Salisbury Beach. So join the River Roadies at Sea Level Oyster Bar in Newburyport on Thursday\, 8/08/24 from 5-7pm.
URL:https://theriverboston.com/events/the-river-roadies-at-sea-level-oyster-bar-in-newburyport/
LOCATION:Sea Level Oyster Bar\, 1 Market Square\, Newburyport\, MA\, 01950\, United States
END:VEVENT
END:VCALENDAR