BEGIN:VCALENDAR
VERSION:2.0
PRODID:-//92.5 the River - ECPv5.16.3.1//NONSGML v1.0//EN
CALSCALE:GREGORIAN
METHOD:PUBLISH
X-WR-CALNAME:92.5 the River
X-ORIGINAL-URL:https://theriverboston.com
X-WR-CALDESC:Events for 92.5 the River
BEGIN:VTIMEZONE
TZID:America/New_York
BEGIN:DAYLIGHT
TZOFFSETFROM:-0500
TZOFFSETTO:-0400
TZNAME:EDT
DTSTART:20240310T070000
END:DAYLIGHT
BEGIN:STANDARD
TZOFFSETFROM:-0400
TZOFFSETTO:-0500
TZNAME:EST
DTSTART:20241103T060000
END:STANDARD
END:VTIMEZONE
BEGIN:VEVENT
DTSTART;TZID=America/New_York:20240810T120000
DTEND;TZID=America/New_York:20240810T120000
DTSTAMP:20260420T132808
CREATED:20240717T141735Z
LAST-MODIFIED:20240717T141735Z
UID:224658-1723291200-1723291200@theriverboston.com
SUMMARY:Ripe Summer Beach Party at Indian Ranch
DESCRIPTION:BUY TICKETS HERE\nRIPE SUMMER BEACH PARTY AT INDIAN RANCH\nwith special guests The Free Label\, Bermuda Search Party\, and Will Evans\nRipe’s newest album Bright Blues is a collection of 12 songs full of sleek grooves and bold melodies that the Boston quintet put together to help ride out tough times\, an anthem for better days ahead. The band drew acclaim from the likes of the Boston Globe\, Huffington Post and WXPN with their first full-length\, Joy in the Wild Unknown. Their streams on Spotify surged past 56 million as they conquered stages at festivals including Bonnaroo\, Firefly\, SweetWater and Bottlerock\, and sold tens of thousands of tickets across the US. Bright Blues is their first release after signing to indie powerhouse Glassnote Records and their first release working with outside co-writers. The live show has always been at the core of who Ripe is\, and now the recorded music can stand alongside it as an all-encompassing representation of who the band is and where they are going. \n  \nFIND MORE INDIAN RANCH SHOWS
URL:https://theriverboston.com/events/ripe-summer-beach-party-at-indian-ranch/
LOCATION:Indian Ranch\, 200 Gore Road\,  Webster\, MA \, 01570\, United States
END:VEVENT
BEGIN:VEVENT
DTSTART;TZID=America/New_York:20240810T193000
DTEND;TZID=America/New_York:20240810T193000
DTSTAMP:20260420T132808
CREATED:20240619T054153Z
LAST-MODIFIED:20240619T054153Z
UID:224244-1723318200-1723318200@theriverboston.com
SUMMARY:Martin Sexton + Ryan Montbleau at Lowell Summer Music Series
DESCRIPTION:Buy Tickets Here \nBring your lawn chairs and blankets and come enjoy the 34th year of The Lowell Summer Music Series presenting live music in beautiful\, tree-lined Boarding House Park\, located in the Lowell National Historical Park!\nMartin Sexton & Ryan Montbleau\nMartin Sexton released his tenth studio album this year and is touring with what Rolling Stone calls his “soul-marinated voice\,” acoustic guitar\, and a suitcase full of heartfelt songs. The latest release (2020 Vision) is produced by three-time Grammy-nominee John Alagia with John Mayer guesting on guitar. \nAcclaimed singer/songwriter Ryan Montbleau has spent much of his life crisscrossing the globe on a perpetual search for meaning\, purpose\, and understanding. It’s a quest that’s guided him both personally and professionally over the years\, one that’s come to define not only his music\, but his very sense of self. \n\nFAQs\nDiscover Free Fun For Kids\nMore About Martin Sexton\nMore About Ryan Montbleau\n\nTHE FULL 2024 LOWELL SUMMER MUSIC SERIES LINEUP\n\nJune 21 – Ben Folds\nJune 22 – Face 2 Face\nJune 28 – Pink Talking Fish\nJune 29 – Buffalo Tom\nJuly 11 – Classic Albums Live: David Bowie\nJuly 26-28 – Lowell Folk Festival\nAug. 3 – Marc Cohn\nAug. 4 – NE Film Orchestra\nAug. 10 – Martin Sexton & Ryan Montbleau\nAug. 16 – Neighbor\nAug. 17 – Chadwick Stokes and the Pintos\nAug. 25 – Angkor Dance Troupe\nAug. 30 – Sarah Jarosz\nSept. 7 – Banjo and Fiddle Contest\nSept. 8 – Victor Wooten\nSept. 14 – Let’s Sing Taylor\nSept. 15 – Belly
URL:https://theriverboston.com/events/sexton-montbleau-lowell-summer-music-series-2024/
LOCATION:Boarding House Park\, 40 French Street\, Lowell\, MA\, 01852\, United States
END:VEVENT
BEGIN:VEVENT
DTSTART;TZID=America/New_York:20240810T200000
DTEND;TZID=America/New_York:20240810T200000
DTSTAMP:20260420T132808
CREATED:20240522T181858Z
LAST-MODIFIED:20240522T181858Z
UID:223851-1723320000-1723320000@theriverboston.com
SUMMARY:Straight No Chaser: The Summer 90s at The Music Hall
DESCRIPTION:Buy Tickets Here \nStraight No Chaser Summer: The 90s\\nIf the phrase “male a cappella group” conjures up an image of students in blue blazers\, ties\, and khakis singing traditional college songs on ivied campuses… think again. Straight No Chaser (SNC) are neither strait-laced nor straight-faced\, but neither are they vaudeville-style kitsch. They have emerged as a phenomenon with a massive fanbase and a long list of accomplishments including 2 RIAA Gold Certified albums\, over 1.5 million concert tickets sold\, over 1 billion streams on Pandora\, and over 2 million albums sold worldwide. Straight No Chaser is the real deal\, the captivating sound of nine unadulterated human voices coming together to make extraordinary music that is moving people in a fundamental sense… and with a sense of humor. \nFIND MORE SHOWS AT THE MUSIC HALL IN PORTSMOUTH HERE
URL:https://theriverboston.com/events/straight-no-chaser-the-summer-90s-at-the-music-hall/
LOCATION:The Music Hall\, 28 Chestnut Street\, Portsmouth\, NH\, 03801\, United States
END:VEVENT
END:VCALENDAR