BEGIN:VCALENDAR
VERSION:2.0
PRODID:-//92.5 the River - ECPv5.16.3.1//NONSGML v1.0//EN
CALSCALE:GREGORIAN
METHOD:PUBLISH
X-WR-CALNAME:92.5 the River
X-ORIGINAL-URL:https://theriverboston.com
X-WR-CALDESC:Events for 92.5 the River
BEGIN:VTIMEZONE
TZID:America/New_York
BEGIN:DAYLIGHT
TZOFFSETFROM:-0500
TZOFFSETTO:-0400
TZNAME:EDT
DTSTART:20240310T070000
END:DAYLIGHT
BEGIN:STANDARD
TZOFFSETFROM:-0400
TZOFFSETTO:-0500
TZNAME:EST
DTSTART:20241103T060000
END:STANDARD
END:VTIMEZONE
BEGIN:VEVENT
DTSTART;TZID=America/New_York:20240816T170000
DTEND;TZID=America/New_York:20240816T190000
DTSTAMP:20260420T104915
CREATED:20240729T203601Z
LAST-MODIFIED:20240729T203658Z
UID:224818-1723827600-1723834800@theriverboston.com
SUMMARY:Bud Light Bar Night @ The Winner's Circle in Salisbury!
DESCRIPTION:How’d you like to win a pair of VIP passes to Riverfest on Salisbury Beach? Join the River and Bud Light on Friday night at the winner’s circle in Salisbury. We’ll be there from 5pm-7pm\, so be sure to stop by. You just might walk away with a pair of VIP passes – or some cool merch from the River and Bud Light! Must be 21 or older to enter. See you at the Winner’s Circle Friday night as we get ready for Riverfest on Salisbury Beach: presented by Bud Light. Easy to drink. Easy to enjoy.
URL:https://theriverboston.com/events/bar-night-winners-circle/
LOCATION:The Winner’s Circle\, 211 Elm St\, Salisbury\, MA\, 01952\, United States
END:VEVENT
BEGIN:VEVENT
DTSTART;TZID=America/New_York:20240816T193000
DTEND;TZID=America/New_York:20240816T193000
DTSTAMP:20260420T104915
CREATED:20240619T054547Z
LAST-MODIFIED:20240619T054547Z
UID:224246-1723836600-1723836600@theriverboston.com
SUMMARY:Neighbor at the Lowell Summer Music Series
DESCRIPTION:Buy Tickets Here \nBring your lawn chairs and blankets and come enjoy the 34th year of The Lowell Summer Music Series presenting live music in beautiful\, tree-lined Boarding House Park\, located in the Lowell National Historical Park!\nNeighbor\nWith a diverse catalog of hundreds of songs\, the musical juggernaut Neighbor has become one of the most exciting and unpredictable live bands on the music scene today. Grown in large part by the passion and devotion of the fans called Neighbors\, their symbiotic relationship inspires and touches every performance. The creation of childhood neighbors Richard James (vocals\, keys) and Lyle Brewer (guitar)\, Neighbor combines ambitious composition\, soulful balladry\, and a fearless approach to their lengthy improvisations. The quartet is rounded out by Dan Kelly (bass) and Dean Johnston (drums) who fuel the groove and lay a solid foundation for Neighbor’s “down home” sound. Come see what’s good in the neighborhood. \n\nFAQs\nDiscover Free Fun For Kids\nMore About Neighbor\n\nTHE FULL 2024 LOWELL SUMMER MUSIC SERIES LINEUP\n\nJune 21 – Ben Folds\nJune 22 – Face 2 Face\nJune 28 – Pink Talking Fish\nJune 29 – Buffalo Tom\nJuly 11 – Classic Albums Live: David Bowie\nJuly 26-28 – Lowell Folk Festival\nAug. 3 – Marc Cohn\nAug. 4 – NE Film Orchestra\nAug. 10 – Martin Sexton & Ryan Montbleau\nAug. 16 – Neighbor\nAug. 17 – Chadwick Stokes and the Pintos\nAug. 25 – Angkor Dance Troupe\nAug. 30 – Sarah Jarosz\nSept. 7 – Banjo and Fiddle Contest\nSept. 8 – Victor Wooten\nSept. 14 – Let’s Sing Taylor\nSept. 15 – Belly
URL:https://theriverboston.com/events/neighbor-lowell-summer-music-series-2024/
LOCATION:Boarding House Park\, 40 French Street\, Lowell\, MA\, 01852\, United States
END:VEVENT
END:VCALENDAR