BEGIN:VCALENDAR
VERSION:2.0
PRODID:-//92.5 the River - ECPv5.16.3.1//NONSGML v1.0//EN
CALSCALE:GREGORIAN
METHOD:PUBLISH
X-WR-CALNAME:92.5 the River
X-ORIGINAL-URL:https://theriverboston.com
X-WR-CALDESC:Events for 92.5 the River
BEGIN:VTIMEZONE
TZID:America/New_York
BEGIN:DAYLIGHT
TZOFFSETFROM:-0500
TZOFFSETTO:-0400
TZNAME:EDT
DTSTART:20240310T070000
END:DAYLIGHT
BEGIN:STANDARD
TZOFFSETFROM:-0400
TZOFFSETTO:-0500
TZNAME:EST
DTSTART:20241103T060000
END:STANDARD
END:VTIMEZONE
BEGIN:VEVENT
DTSTART;TZID=America/New_York:20241012T190000
DTEND;TZID=America/New_York:20241012T190000
DTSTAMP:20260420T042731
CREATED:20241004T201909Z
LAST-MODIFIED:20241004T213112Z
UID:225261-1728759600-1728759600@theriverboston.com
SUMMARY:Nosferatu Screening with New England Film Orchestra
DESCRIPTION:Buy Tickets Here \nNosferatu\, with New England Film Orchestra\nDuration: 94 minutes\nRated PG\nDirector: F. W. Murnau\nThis will be the premiere of composer Al Kryszak’s large orchestral score for F. W. Murnau’s classic “Nosferatu”\, featuring Czechoslovakian cimbalom virtuoso Matěj Číp with Gina Naggar & The New England Film Orchestra. \nAbout the Film:\nA 1922 silent German Expressionist vampire film directed by F. W. Murnau and starring Max Schreck as Count Orlok\, a vampire who preys on the wife (Greta Schröder) of his estate agent (Gustav von Wangenheim) and brings the plague to their town. Nosferatu was produced by Prana Film and is an unauthorized and unofficial adaptation of Bram Stoker’s 1897 novel Dracula. In 1838\, in the fictional German town of Wisborg\, Thomas Hutter is sent to Transylvania by his employer\, estate agent Herr Knock\, to visit a new client\, Count Orlok\, who is planning on buying a house across from Hutter’s own residence. While embarking on his journey\, Hutter stops at an inn in which the locals are frightened by the mere mention of Orlok’s name. \nA Note from the Composer \n“I’ve always been drawn to haunted people\, haunted locations & haunted nationalities (Polish & Transylvanian ancestry)\, and F. W. Murnau’s masterpiece of horror\, “Nosferatu” (1922) was my first live film score. I performed a quite different version of the score 30 years ago\, (1994)\, guitars and dulcimer\, at The Directors Guild at The Cinematheque in L.A.\, and in New York at Arts at St. Ann’s\, The Riviera Theatre and Weill Recital Hall at Carnegie.” \nREAD MORE \n\nMore About New England Film Orchestra\nFind more New England Film Orchestra videos here
URL:https://theriverboston.com/events/nosferatu-new-england-film-orchestra/
LOCATION:Somerville Theatre\, 55 Davis Square\, Somerville\, MA\, 02144\, United States
ORGANIZER;CN="New%20England%20Film%20Orchestra":MAILTO:newenglandfilmorchestra@gmail.com
END:VEVENT
END:VCALENDAR